BEGIN:VCALENDAR
VERSION:2.0
PRODID:-//Vermont Symphony Orchestra - ECPv6.15.17.1//NONSGML v1.0//EN
CALSCALE:GREGORIAN
METHOD:PUBLISH
X-ORIGINAL-URL:https://www.vso.org
X-WR-CALDESC:Events for Vermont Symphony Orchestra
REFRESH-INTERVAL;VALUE=DURATION:PT1H
X-Robots-Tag:noindex
X-PUBLISHED-TTL:PT1H
BEGIN:VTIMEZONE
TZID:America/New_York
BEGIN:DAYLIGHT
TZOFFSETFROM:-0500
TZOFFSETTO:-0400
TZNAME:EDT
DTSTART:20220313T070000
END:DAYLIGHT
BEGIN:STANDARD
TZOFFSETFROM:-0400
TZOFFSETTO:-0500
TZNAME:EST
DTSTART:20221106T060000
END:STANDARD
BEGIN:DAYLIGHT
TZOFFSETFROM:-0500
TZOFFSETTO:-0400
TZNAME:EDT
DTSTART:20230312T070000
END:DAYLIGHT
BEGIN:STANDARD
TZOFFSETFROM:-0400
TZOFFSETTO:-0500
TZNAME:EST
DTSTART:20231105T060000
END:STANDARD
BEGIN:DAYLIGHT
TZOFFSETFROM:-0500
TZOFFSETTO:-0400
TZNAME:EDT
DTSTART:20240310T070000
END:DAYLIGHT
BEGIN:STANDARD
TZOFFSETFROM:-0400
TZOFFSETTO:-0500
TZNAME:EST
DTSTART:20241103T060000
END:STANDARD
BEGIN:DAYLIGHT
TZOFFSETFROM:-0500
TZOFFSETTO:-0400
TZNAME:EDT
DTSTART:20250309T070000
END:DAYLIGHT
BEGIN:STANDARD
TZOFFSETFROM:-0400
TZOFFSETTO:-0500
TZNAME:EST
DTSTART:20251102T060000
END:STANDARD
BEGIN:DAYLIGHT
TZOFFSETFROM:-0500
TZOFFSETTO:-0400
TZNAME:EDT
DTSTART:20260308T070000
END:DAYLIGHT
BEGIN:STANDARD
TZOFFSETFROM:-0400
TZOFFSETTO:-0500
TZNAME:EST
DTSTART:20261101T060000
END:STANDARD
END:VTIMEZONE
BEGIN:VEVENT
DTSTART;TZID=America/New_York:20250815T193000
DTEND;TZID=America/New_York:20250815T213000
DTSTAMP:20260423T132633
CREATED:20241125T150045Z
LAST-MODIFIED:20250730T180145Z
UID:10000259-1755286200-1755293400@www.vso.org
SUMMARY:Rodgers & Hammerstein’s Oklahoma! In Concert - August 15
DESCRIPTION:Buy Tickets \nRODGERS & HAMMERSTEIN’S OKLAHOMA! IN CONCERT\nAugust 13\, 14\, 15 | 2025\nTrapp Family Lodge Concert Meadow\, Stowe\, VT \nPicnic in the concert meadow and enjoy the Oscar- and Pulitzer Prize-winning musical score brought to life in concert by a full orchestra\, soloists\, and chorus\, conducted by Christopher Ray. Set in Oklahoma in 1906\, the musical depicts a love story between a farm girl and a cowboy and the growing rivalry between the cowboys and local farmers.  The musical is the first written by the famous duo of Richard Rodgers and Oscar Hammerstein\, and features well-loved tunes including “Oh\, What a Beautiful Mornin” and “Oklahoma”. \n\nGates open at 5:30 pm for picnicking\nConcert begins at 7:30 pm\n\nGeneral admission tickets: $79. Students 18 and under tickets: $39. VIP tickets: $125 \nVIP tickets include premium parking next to the Trapp Family Lodge Concert Meadow\, provision of a camping chair and premium seating\, a complimentary beverage at the onsite bier tent\, and a special Oklahoma! branded gift. A limited quantity of VIP tickets are available. \nIn the event of inclement weather\, performances will be relocated to The Flynn in Burlington.  \nThe concerts are produced in partnership with the Lyric Theatre\, Vermont Symphony Orchestra\, Trapp Family Lodge\, The Flynn\, and Stowe Performing Arts. \nThis concert is generously sponsored by The Merson Family & Edward Jones with additional support by Four Season Sotheby’s International Realty\, Stackpole & French Law Offices\, and generous individual donors. \n \n             \n 
URL:https://www.vso.org/vso-event/rodgers-hammersteins-oklahoma-in-concert-august-15/
LOCATION:Trapp Family Lodge Concert Meadow\, 854 Trapp Hill Rd\, Stowe\, VT\, 05672\, United States
CATEGORIES:Oklahoma
ATTACH;FMTTYPE=image/png:https://www.vso.org/wp-content/uploads/2024/11/oklahomarec.png
END:VEVENT
BEGIN:VEVENT
DTSTART;TZID=America/New_York:20250814T193000
DTEND;TZID=America/New_York:20250814T213000
DTSTAMP:20260423T132633
CREATED:20241125T150022Z
LAST-MODIFIED:20250730T180212Z
UID:10000258-1755199800-1755207000@www.vso.org
SUMMARY:Rodgers & Hammerstein’s Oklahoma! In Concert - August 14
DESCRIPTION:Buy Tickets \nRODGERS & HAMMERSTEIN’S OKLAHOMA! IN CONCERT\nAugust 13\, 14\, 15 | 2025\nTrapp Family Lodge Concert Meadow\, Stowe\, VT \nPicnic in the concert meadow and enjoy the Oscar- and Pulitzer Prize-winning musical score brought to life in concert by a full orchestra\, soloists\, and chorus\, conducted by Christopher Ray. Set in Oklahoma in 1906\, the musical depicts a love story between a farm girl and a cowboy and the growing rivalry between the cowboys and local farmers.  The musical is the first written by the famous duo of Richard Rodgers and Oscar Hammerstein\, and features well-loved tunes including “Oh\, What a Beautiful Mornin” and “Oklahoma”. \n\nGates open at 5:30 pm for picnicking\nConcert begins at 7:30 pm\n\nGeneral admission tickets: $79. Students 18 and under tickets: $39. VIP tickets: $125 \nVIP tickets include premium parking next to the Trapp Family Lodge Concert Meadow\, provision of a camping chair and premium seating\, a complimentary beverage at the onsite bier tent\, and a special Oklahoma! branded gift. A limited quantity of VIP tickets are available. \nIn the event of inclement weather\, performances will be relocated to The Flynn in Burlington.  \nThe concerts are produced in partnership with the Lyric Theatre\, Vermont Symphony Orchestra\, Trapp Family Lodge\, The Flynn\, and Stowe Performing Arts. \nThis concert is generously sponsored by The Merson Family & Edward Jones with additional support by Four Season Sotheby’s International Realty\, Stackpole & French Law Offices\, and generous individual donors. \n \n             \n 
URL:https://www.vso.org/vso-event/rodgers-hammersteins-oklahoma-in-concert-august-14/
LOCATION:Trapp Family Lodge Concert Meadow\, 854 Trapp Hill Rd\, Stowe\, VT\, 05672\, United States
CATEGORIES:Oklahoma
ATTACH;FMTTYPE=image/png:https://www.vso.org/wp-content/uploads/2024/11/oklahomarec.png
END:VEVENT
BEGIN:VEVENT
DTSTART;TZID=America/New_York:20250813T193000
DTEND;TZID=America/New_York:20250813T213000
DTSTAMP:20260423T132633
CREATED:20241125T150000Z
LAST-MODIFIED:20250813T142231Z
UID:10000257-1755113400-1755120600@www.vso.org
SUMMARY:Rodgers & Hammerstein’s Oklahoma! In Concert - August 13
DESCRIPTION:PLEASE NOTE: Tonight’s concert will be INDOORS at The Flynn in Burlington. Tickets will be available for purchase at the door. \nLobby doors open at 6:30\, house doors open at 7:00\, and the concert begins at 7:30. \nBuy Tickets \nRODGERS & HAMMERSTEIN’S OKLAHOMA! IN CONCERT\nAugust 13\, 14\, 15 | 2025\nTrapp Family Lodge Concert Meadow\, Stowe\, VT \nPicnic in the concert meadow and enjoy the Oscar- and Pulitzer Prize-winning musical score brought to life in concert by a full orchestra\, soloists\, and chorus\, conducted by Christopher Ray. Set in Oklahoma in 1906\, the musical depicts a love story between a farm girl and a cowboy and the growing rivalry between the cowboys and local farmers.  The musical is the first written by the famous duo of Richard Rodgers and Oscar Hammerstein\, and features well-loved tunes including “Oh\, What a Beautiful Mornin” and “Oklahoma”. \n\nGates open at 5:30 pm for picnicking\nConcert begins at 7:30 pm\n\nGeneral admission tickets: $79. Students 18 and under tickets: $39. VIP tickets: $125 \nVIP tickets include premium parking next to the Trapp Family Lodge Concert Meadow\, provision of a camping chair and premium seating\, a complimentary beverage at the onsite bier tent\, and a special Oklahoma! branded gift. A limited quantity of VIP tickets are available. \nIn the event of inclement weather\, performances will be relocated to The Flynn in Burlington.  \nThe concerts are produced in partnership with the Lyric Theatre\, Vermont Symphony Orchestra\, Trapp Family Lodge\, The Flynn\, and Stowe Performing Arts. \nThis concert is generously sponsored by The Merson Family & Edward Jones with additional support by Four Season Sotheby’s International Realty\, Stackpole & French Law Offices\, and generous individual donors. \n \n           
URL:https://www.vso.org/vso-event/rodgers-hammersteins-oklahoma-in-concert-august-13/
LOCATION:Trapp Family Lodge Concert Meadow\, 854 Trapp Hill Rd\, Stowe\, VT\, 05672\, United States
CATEGORIES:Oklahoma
ATTACH;FMTTYPE=image/png:https://www.vso.org/wp-content/uploads/2024/11/oklahomarec.png
END:VEVENT
BEGIN:VEVENT
DTSTART;TZID=America/New_York:20250706T193000
DTEND;TZID=America/New_York:20250706T213000
DTSTAMP:20260423T132633
CREATED:20250401T142331Z
LAST-MODIFIED:20250706T160937Z
UID:10000281-1751830200-1751837400@www.vso.org
SUMMARY:Summer Festival Tour 2025: Stowe
DESCRIPTION:Tonight’s concert is OUTDOORS at the von Trapp Family Lodge Concert Meadow.\nTickets will be available at the gate. \n\nCome feel the love with the Vermont Symphony Orchestra as we embark on our 2025 Summer Festival Tour. This year’s dynamic program\, Summer of Love\, features works from across the world and a range of genres\, including pieces from Tchaikovsky’s Romeo and Juliet\, John Williams’ Star Wars Theme\, Leonard Bernstein’s West Side Story\, and pop hits such as “I Put A Spell On You” and “Nature Boy.” This summer the VSO welcomes mezzo Nikola Printz as the tour’s special guest vocalist. \nAn annual VSO tradition\, the Summer Festival Tour celebrates music\, community\, and the summer season. This year’s tour will take place from July 1-6\, 2025 in the following locations: Castleton\, Grafton\, East Burke\, South Pomfret\, Shelburne\, and Stowe. All locations will include VSO’s Musical Petting Zoo where the audience can explore a variety of orchestral instruments\, available before the performances. \n  \nEVENT DETAILS & THINGS TO KNOW\nTrapp Family Lodge Concert Meadow\n700 Trapp Hill Rd. Stowe\, VT \nGates open at 5:30 pm for picnicking\nConcert begins at 7:30 pm \nAdults: $35 in advance/$45 at the gate\nAges 6-17: $13\n5 and under: Free \nRain site: Stowe High School\, 413 Barrows Rd. Stowe\, VT \nWe encourage you to bring:\n– A picnic blanket or folding chairs\n– Sunscreen & sunglasses\n– Insect repellant\n– Water\n– Whatever you need to comfortably enjoy the outdoors \nSun umbrellas are welcome until the start of the concert. Flashlights are also suggested to help you find your way to your car after the sun has set. Smoking and animals (except assistance and service animals) are not allowed at any VSO show. \n  \nPROGRAM \nAndrew Crust\, conductor\nNikola Printz\, vocals \nFrances Scott Key – The Star-Spangled Banner\nLeonard Bernstein/Mason – West Side Story Selections\nFranz Lehár– Meine Lippen sie küssen so heiß\nGeorges Bizet – Habanera from “Carmen”\nPiotr Ilyich Tchaikovsky – Romeo and Juliet Fantasy Overture \nINTERMISSION \nLalo Schifrin – Tango de Atardecer\nJohn Williams – Across the Stars Love Theme from Star Wars Episode II\nHeitor Villa-Lobos/Krance – Bachianas Brasileiras No. 5\nNat King Cole/De Vol – Nature Boy\nNina Simone/McKenzie – I Put a Spell on You\nJohn Philip Sousa – Our Flirtation\nJohn Philip Sousa – Stars and Stripes Forever \n  \nFor accessibility information at Trapp Family Lodge Concert Meadow\, please contact (802) 826-7000 \n \nThis concert is generously supported by AARP Vermont\, Maple Capital Management\, and generous individual donors. \n \n \nThis concert is made possible in partnership with Stowe Performing Arts.
URL:https://www.vso.org/vso-event/summer-festival-tour-2025-stowe/
LOCATION:Trapp Family Lodge Concert Meadow\, 854 Trapp Hill Rd\, Stowe\, VT\, 05672\, United States
CATEGORIES:Summer Festival Tour
ATTACH;FMTTYPE=image/png:https://www.vso.org/wp-content/uploads/2025/04/Untitled-26.png
END:VEVENT
BEGIN:VEVENT
DTSTART;TZID=America/New_York:20240622T193000
DTEND;TZID=America/New_York:20240622T213000
DTSTAMP:20260423T132633
CREATED:20230623T145353Z
LAST-MODIFIED:20240612T193206Z
UID:10000193-1719084600-1719091800@www.vso.org
SUMMARY:The Sound of Music: In Concert - SOLD OUT
DESCRIPTION:THE SOUND OF MUSIC: IN CONCERT\nJune 20\, 21\, 22 | 2024\nTrapp Family Lodge Concert Meadow\, Stowe\, VT \nThis concert is sold out. Ticket buyers will receive their tickets via email from the Flynn on June 17. \nThe hills are alive with The Sound of Music: In Concert at Trapp Family Lodge! As the sun goes to bed behind the Green Mountains\, nestled in the splendor of Vermont’s Nebraska Valley\, experience the legendary music of Rodgers & Hammerstein as it was destined to be heard. This first-of-its-kind event is brought to you by Lyric Theatre Company\, Vermont Symphony Orchestra\, and Trapp Family Lodge\, with special support from The Flynn and Stowe Performing Arts. \nThese remarkable evenings of song and story will be conducted by Andrew Crust\, Music Director for VSO\, and hosted by Kerstin Anderson\, a Vermont native and star of the celebrated 2015 Sound of Music National Tour. Join them and many more special guests to celebrate the momentous legacy of Lyric Theatre’s 50th Anniversary\, VSO’s 90th Anniversary\, the 75th Anniversary of The Story of the Trapp Family Singers\, and the 65th Anniversary of the musical’s Broadway premiere. \nTickets are available exclusively via www.flynnvt.org. In case of inclement weather\, performances will take place at The Flynn in Burlington. \nThis concert will be ASL interpreted. \n 
URL:https://www.vso.org/vso-event/the-sound-of-music-in-concert/
LOCATION:Trapp Family Lodge Concert Meadow\, 854 Trapp Hill Rd\, Stowe\, VT\, 05672\, United States
CATEGORIES:Pops,Sound of Music
ATTACH;FMTTYPE=image/jpeg:https://www.vso.org/wp-content/uploads/2023/06/SoM-169_.jpg
END:VEVENT
BEGIN:VEVENT
DTSTART;TZID=America/New_York:20240622T140000
DTEND;TZID=America/New_York:20240622T160000
DTSTAMP:20260423T132633
CREATED:20240414T212608Z
LAST-MODIFIED:20240617T110140Z
UID:10000219-1719064800-1719072000@www.vso.org
SUMMARY:The Sound of Music: In Concert - SOLD OUT
DESCRIPTION:THE SOUND OF MUSIC: IN CONCERT\nJune 20\, 21\, 22 | 2024\nTrapp Family Lodge Concert Meadow\, Stowe\, VT \nThis concert is sold out. Ticket buyers will receive their tickets via email from the Flynn on June 17. \nThe hills are alive with The Sound of Music: In Concert at Trapp Family Lodge! As the sun goes to bed behind the Green Mountains\, nestled in the splendor of Vermont’s Nebraska Valley — experience the legendary music of Rodgers & Hammerstein as it was destined to be heard. This first-of-its-kind event is brought to you by Lyric Theatre Company\, Vermont Symphony Orchestra\, and Trapp Family Lodge\, with special support from The Flynn and Stowe Performing Arts. \nThese remarkable evenings of song and story will be conducted by Andrew Crust\, Music Director for VSO\, and hosted by Kerstin Anderson\, a Vermont native and star of the celebrated 2015 Sound of Music National Tour. Join them and many more special guests to celebrate the momentous legacy of Lyric Theatre’s 50th Anniversary\, VSO’s 90th Anniversary\, the 75th Anniversary of The Story of the Trapp Family Singers\, and the 65th Anniversary of the musical’s Broadway premiere. \nTickets are available exclusively via www.flynnvt.org. In case of inclement weather\, performances will take place at The Flynn in Burlington.  \nThis concert will be ASL interpreted. \nBuy Tickets Here for the 2pm Matinee
URL:https://www.vso.org/vso-event/the-sound-of-music-in-concert-4/
LOCATION:Trapp Family Lodge Concert Meadow\, 854 Trapp Hill Rd\, Stowe\, VT\, 05672\, United States
CATEGORIES:Pops,Sound of Music
ATTACH;FMTTYPE=image/jpeg:https://www.vso.org/wp-content/uploads/2023/06/SoM-169_.jpg
END:VEVENT
BEGIN:VEVENT
DTSTART;TZID=America/New_York:20240621T193000
DTEND;TZID=America/New_York:20240621T210000
DTSTAMP:20260423T132634
CREATED:20230623T145403Z
LAST-MODIFIED:20240612T193130Z
UID:10000192-1718998200-1719003600@www.vso.org
SUMMARY:The Sound of Music: In Concert - SOLD OUT
DESCRIPTION:THE SOUND OF MUSIC: IN CONCERT\nJune 20\, 21\, 22 | 2024\nTrapp Family Lodge Concert Meadow\, Stowe\, VT \nThis concert is sold out. Ticket buyers will receive their tickets via email from the Flynn on June 17. \nThe hills are alive with The Sound of Music: In Concert at Trapp Family Lodge! As the sun goes to bed behind the Green Mountains\, nestled in the splendor of Vermont’s Nebraska Valley\, experience the legendary music of Rodgers & Hammerstein as it was destined to be heard. This first-of-its-kind event is brought to you by Lyric Theatre Company\, Vermont Symphony Orchestra\, and Trapp Family Lodge\, with special support from The Flynn and Stowe Performing Arts. \nThese remarkable evenings of song and story will be conducted by Andrew Crust\, Music Director for VSO\, and hosted by Kerstin Anderson\, a Vermont native and star of the celebrated 2015 Sound of Music National Tour. Join them and many more special guests to celebrate the momentous legacy of Lyric Theatre’s 50th Anniversary\, VSO’s 90th Anniversary\, the 75th Anniversary of The Story of the Trapp Family Singers\, and the 65th Anniversary of the musical’s Broadway premiere. \nTickets are available exclusively via www.flynnvt.org. In case of inclement weather\, performances will take place at The Flynn in Burlington. \n 
URL:https://www.vso.org/vso-event/the-sound-of-music-in-concert-2/
LOCATION:Trapp Family Lodge Concert Meadow\, 854 Trapp Hill Rd\, Stowe\, VT\, 05672\, United States
CATEGORIES:Pops,Sound of Music
ATTACH;FMTTYPE=image/jpeg:https://www.vso.org/wp-content/uploads/2023/06/SoM-169_.jpg
END:VEVENT
BEGIN:VEVENT
DTSTART;TZID=America/New_York:20240620T193000
DTEND;TZID=America/New_York:20240620T213000
DTSTAMP:20260423T132634
CREATED:20230623T181947Z
LAST-MODIFIED:20240620T143020Z
UID:10000190-1718911800-1718919000@www.vso.org
SUMMARY:The Sound of Music: In Concert - SOLD OUT
DESCRIPTION:WEATHER UPDATE: TONIGHT’S PERFORMANCE WILL BE INDOORS AT THE FLYNN. \nTHE SOUND OF MUSIC: IN CONCERT\nJune 20\, 21\, 22 | 2024\nTrapp Family Lodge Concert Meadow\, Stowe\, VT \nThis concert is sold out. Ticket buyers will receive their tickets via email from the Flynn on June 17. \nThe hills are alive with The Sound of Music: In Concert at Trapp Family Lodge! As the sun goes to bed behind the Green Mountains\, nestled in the splendor of Vermont’s Nebraska Valley\, experience the legendary music of Rodgers & Hammerstein as it was destined to be heard. This first-of-its-kind event is brought to you by Lyric Theatre Company\, Vermont Symphony Orchestra\, and Trapp Family Lodge\, with special support from The Flynn and Stowe Performing Arts. \nThese remarkable evenings of song and story will be conducted by Andrew Crust\, Music Director for VSO\, and hosted by Kerstin Anderson\, a Vermont native and star of the celebrated 2015 Sound of Music National Tour. Join them and many more special guests to celebrate the momentous legacy of Lyric Theatre’s 50th Anniversary\, VSO’s 90th Anniversary\, the 75th Anniversary of The Story of the Trapp Family Singers\, and the 65th Anniversary of the musical’s Broadway premiere. \nTickets are available exclusively via www.flynnvt.org. In case of inclement weather\, performances will take place at The Flynn in Burlington. \n 
URL:https://www.vso.org/vso-event/the-sound-of-music-in-concert-3/
LOCATION:Trapp Family Lodge Concert Meadow\, 854 Trapp Hill Rd\, Stowe\, VT\, 05672\, United States
CATEGORIES:Pops,Sound of Music
ATTACH;FMTTYPE=image/jpeg:https://www.vso.org/wp-content/uploads/2023/06/SoM-169_.jpg
END:VEVENT
BEGIN:VEVENT
DTSTART;TZID=America/New_York:20230702T193000
DTEND;TZID=America/New_York:20230702T213000
DTSTAMP:20260423T132634
CREATED:20230401T002641Z
LAST-MODIFIED:20230702T140731Z
UID:10000111-1688326200-1688333400@www.vso.org
SUMMARY:2023 TD Bank Summer Festival Tour in Stowe
DESCRIPTION:TONIGHT’S PERFORMANCE HAS BEEN MOVED INDOORS DUE TO WEATHER. The show is sold out.\nRain Site: Stowe High School\, 413 Barrows Rd. Stowe\, VT \n  \nVSO’s TD Bank Summer Festival Tour is back with a lineup of American favorites to get you dancing and celebrating the most anticipated time of year in Vermont. Guest trumpeter and jazz legend Ray Vega joins the Vermont Symphony Orchestra and Argentinian/Italian conductor Michelle di Russo in a concert of swing\, jazz\, spirituals\, and marches. A “…hornman with deep roots in Latin Music and Afro-Cuban Jazz” (New York Daily News)\, Vega is known as a prolific\, state-wide performer and as host of Vermont Public’s Friday Night Jazz program. Relax under the balmy summer skies with feisty\, soothing\, and unforgettable music by Duke Ellington\, Louis Armstrong\, Thelonious Monk\, George Gershwin\, John Philip Sousa\, Johnny Mandel and more. Bring your picnic baskets and summer spirit! \n \nThis concert is presented in partnership with Stowe Performing Arts. \n  \nEVENT DETAILS & THINGS TO KNOW\nNow at rain site: Stowe High School 413 Barrows Rd. Stowe\, VT \nTrapp Family Lodge Concert Meadow – 700 Trapp Hill Rd. Stowe\, VT\nGates open at 5:30 pm for picnicking\nConcert begins at 7:30 pm\n \n  \n  \nWe encourage you to bring:\n– A picnic blanket or folding chairs\n– Sunscreen & sunglasses\n– Insect repellant\n– Water\n– Whatever you need to comfortably enjoy the outdoors \nSun umbrellas are welcome until the start of the concert. Flashlights are also suggested to help you find your way to your car after the sun has set. Smoking and animals (except assistance and service animals) are not allowed at any VSO show. \n  \nPROGRAM\n\nGuest conductor Michelle Di Russo\, trumpet soloist\, Ray Vega \nBernstein – Overture to Candide\nSeeger – Rissolty Rossolty\nMonk arr. Julien – Round Midnight\nJoplin – The Entertainer\nArmstrong – Satchmo!\nSuessdorf\, arr. Fredrickson – Moonlight in Vermont\nMandel\, arr. McCarthy – Medley: The Shadow of Your Smile/A Time for Love\nEllington\, arr. Custer – Duke Ellington! \nINTERMISSION \nGershwin – Cuban Overture\nHernandez\, arr. Hartigan – Lamento Borincano\nBurleigh\, arr. Tyzik – Every Time I Feel the Spirit\nEllington\, arr. Vega – Black and Tan Fantasy\nGershwin – Strike Up the Band\nSousa – The Washington Post\nSousa – Stars and Stripes Forever \n  \nThis concert is generously sponsored by:\n          \n \n             \n        \n       Waterbury & Stowe \n\n \n For venue accessibility information\, please contact Trapp Family Lodge at (802) 826-7000.
URL:https://www.vso.org/vso-event/2023-summer-festival-tour-in-stowe/
LOCATION:Trapp Family Lodge Concert Meadow\, 854 Trapp Hill Rd\, Stowe\, VT\, 05672\, United States
CATEGORIES:Summer Festival Tour
ATTACH;FMTTYPE=image/png:https://www.vso.org/wp-content/uploads/2023/03/TD-Bank-Stowe-SFT-web.png
END:VEVENT
END:VCALENDAR