BEGIN:VCALENDAR
VERSION:2.0
PRODID:-//Vermont Symphony Orchestra - ECPv6.15.17.1//NONSGML v1.0//EN
CALSCALE:GREGORIAN
METHOD:PUBLISH
X-ORIGINAL-URL:https://www.vso.org
X-WR-CALDESC:Events for Vermont Symphony Orchestra
REFRESH-INTERVAL;VALUE=DURATION:PT1H
X-Robots-Tag:noindex
X-PUBLISHED-TTL:PT1H
BEGIN:VTIMEZONE
TZID:America/New_York
BEGIN:DAYLIGHT
TZOFFSETFROM:-0500
TZOFFSETTO:-0400
TZNAME:EDT
DTSTART:20220313T070000
END:DAYLIGHT
BEGIN:STANDARD
TZOFFSETFROM:-0400
TZOFFSETTO:-0500
TZNAME:EST
DTSTART:20221106T060000
END:STANDARD
BEGIN:DAYLIGHT
TZOFFSETFROM:-0500
TZOFFSETTO:-0400
TZNAME:EDT
DTSTART:20230312T070000
END:DAYLIGHT
BEGIN:STANDARD
TZOFFSETFROM:-0400
TZOFFSETTO:-0500
TZNAME:EST
DTSTART:20231105T060000
END:STANDARD
BEGIN:DAYLIGHT
TZOFFSETFROM:-0500
TZOFFSETTO:-0400
TZNAME:EDT
DTSTART:20240310T070000
END:DAYLIGHT
BEGIN:STANDARD
TZOFFSETFROM:-0400
TZOFFSETTO:-0500
TZNAME:EST
DTSTART:20241103T060000
END:STANDARD
END:VTIMEZONE
BEGIN:VEVENT
DTSTART;TZID=America/New_York:20230703T193000
DTEND;TZID=America/New_York:20230703T213000
DTSTAMP:20260424T163521
CREATED:20230331T204050Z
LAST-MODIFIED:20230703T144444Z
UID:10000109-1688412600-1688419800@www.vso.org
SUMMARY:2023 TD Bank Summer Festival Tour in Grafton
DESCRIPTION:DUE TO WEATHER\, THIS PERFORMANCE WILL BE INDOORS. The concert is sold out.\nThe rain site is Horowitz Hall at Vermont Academy\, 10 Long Walk\, Saxtons River\, VT. \nPlease note that there is no food permitted inside the hall.  \n  \nVSO’s TD Bank Summer Festival Tour is back with a lineup of American favorites to get you dancing and celebrating the most anticipated time of year in Vermont. Guest trumpeter and jazz legend Ray Vega joins the Vermont Symphony Orchestra and Argentinian/Italian conductor Michelle di Russo in a concert of swing\, jazz\, spirituals\, and marches. A “…hornman with deep roots in Latin Music and Afro-Cuban Jazz” (New York Daily News)\, Vega is known as a prolific\, state-wide performer and as host of Vermont Public’s Friday Night Jazz program. Relax under the balmy summer skies with feisty\, soothing\, and unforgettable music by Duke Ellington\, Louis Armstrong\, Thelonious Monk\, George Gershwin\, John Philip Sousa\, Johnny Mandel and more. Bring your picnic baskets and summer spirit.\nFireworks will take place at the conclusion of the performance! \n \nEVENT DETAILS & THINGS TO KNOW\nGrafton Trails and Outdoor Center – 783 Townshend Road\, Grafton\nGates open at 5:30 pm for picnicking\nConcert begins at 7:30 pm\n \nAdvance adult tickets: $28\nGate Prices:\nAdults: $35\nAges 6-17: $5\n5 and under: Free \nAARP discounted tickets are available for AARP members only. \nRain site: Horowitz Hall at Vermont Academy\, 10 Long Walk\, Saxtons River\, VT 05154 \nWe encourage you to bring:\n– A picnic blanket or folding chairs\n– Sunscreen & sunglasses\n– Insect repellant\n– Water\n– Whatever you need to comfortably enjoy the outdoors \nSun umbrellas are welcome until the start of the concert. Flashlights are also suggested to help you find your way to your car after the sun has set. Smoking and animals (except assistance and service animals) are not allowed at any VSO show. \n  \nPROGRAM \nGuest conductor Michelle Di Russo\, trumpet soloist\, Ray Vega \nBernstein – Overture to Candide\nSeeger – Rissolty Rossolty\nMonk arr. Julien – Round Midnight\nJoplin – The Entertainer\nArmstrong – Satchmo!\nSuessdorf\, arr. Fredrickson – Moonlight in Vermont\nMandel\, arr. McCarthy – Medley: The Shadow of Your Smile/A Time for Love\nEllington\, arr. Custer – Duke Ellington! \nINTERMISSION \nGershwin – Cuban Overture\nHernandez\, arr. Hartigan – Lamento Borincano\nBurleigh\, arr. Tyzik – Every Time I Feel the Spirit\nEllington\, arr. Vega – Black and Tan Fantasy\nGershwin – Strike Up the Band\nSousa – The Washington Post\nSousa – Stars and Stripes Forever \n\nThis concert is generously sponsored by: \n           \n                     \n\n           \n  \nThe Musical Petting Zoo educational exhibit for this performance is kindly supported by M&T Bank.\n\n\n For accessibility information at this venue\, please contact Grafton Trails and Outdoor Center at (802) 843-2400.
URL:https://www.vso.org/vso-event/2023-summer-festival-tour-in-grafton/
LOCATION:Grafton Trails and Outdoor Center\, 783 Townshend Road\, Grafton\, VT\, 05146\, United States
CATEGORIES:Summer Festival Tour
ATTACH;FMTTYPE=image/png:https://www.vso.org/wp-content/uploads/2023/03/Grafton-Trails-and-Outdoor-Center-TD-bank-web.png
END:VEVENT
END:VCALENDAR