BEGIN:VCALENDAR
VERSION:2.0
PRODID:-//Vermont Symphony Orchestra - ECPv6.15.17.1//NONSGML v1.0//EN
CALSCALE:GREGORIAN
METHOD:PUBLISH
X-WR-CALNAME:Vermont Symphony Orchestra
X-ORIGINAL-URL:https://www.vso.org
X-WR-CALDESC:Events for Vermont Symphony Orchestra
REFRESH-INTERVAL;VALUE=DURATION:PT1H
X-Robots-Tag:noindex
X-PUBLISHED-TTL:PT1H
BEGIN:VTIMEZONE
TZID:America/New_York
BEGIN:DAYLIGHT
TZOFFSETFROM:-0500
TZOFFSETTO:-0400
TZNAME:EDT
DTSTART:20240310T070000
END:DAYLIGHT
BEGIN:STANDARD
TZOFFSETFROM:-0400
TZOFFSETTO:-0500
TZNAME:EST
DTSTART:20241103T060000
END:STANDARD
BEGIN:DAYLIGHT
TZOFFSETFROM:-0500
TZOFFSETTO:-0400
TZNAME:EDT
DTSTART:20250309T070000
END:DAYLIGHT
BEGIN:STANDARD
TZOFFSETFROM:-0400
TZOFFSETTO:-0500
TZNAME:EST
DTSTART:20251102T060000
END:STANDARD
BEGIN:DAYLIGHT
TZOFFSETFROM:-0500
TZOFFSETTO:-0400
TZNAME:EDT
DTSTART:20260308T070000
END:DAYLIGHT
BEGIN:STANDARD
TZOFFSETFROM:-0400
TZOFFSETTO:-0500
TZNAME:EST
DTSTART:20261101T060000
END:STANDARD
END:VTIMEZONE
BEGIN:VEVENT
DTSTART;TZID=America/New_York:20251017T190000
DTEND;TZID=America/New_York:20251017T200000
DTSTAMP:20260422T181211
CREATED:20250626T174227Z
LAST-MODIFIED:20251017T183502Z
UID:10000307-1760727600-1760731200@www.vso.org
SUMMARY:Jukebox: Strength and Hope - Rutland
DESCRIPTION:Buy Tickets \nTHIS EVENT IS SOLD OUT \nMusic as strength. Music as hope. Music as change.  \nThroughout history\, composers have turned to music in the face of hardship—to find light in darkness\, to hold fast to truth\, to rise up\, and to offer comfort\, courage\, and strength. In this Jukebox\, we look to those composers who have created music for hope\, resistance\, and change—music composed in prison camps\, music that calls out injustice\, music that shouts dissent\, music that is charged with the need to speak out and be heard. In these challenging times\, this special concert brings us together to offer a sense of optimism borne of music and community. \nBrooke Quiggins-Saulnier and Joana Genova\, violin; Stefanie Taylor\, viola; and John Dunlop\, cello. Hosted and curated by Matt LaRocca. \nPROGRAM \nRussell Peck – Don’t Tread on Me \nLudwig van Beethoven – String Quartet in C minor\, Op. 18\, No. 4 – Movement I \nEthel Smyth – String Quartet in E minor \nGideon Klein – Trio \nDmitri Shostakovich: String Quartet No. 8 in C minor\, Op. 110 \nFrank Horvat – The Thailand HRDs \nMilad Yousufi – Refugee \nZoltan Almashi – Mariupol \nWoody Guthrie – This Land is Your Land \n  \nThis concert is generously sponsored by Kristi and Sandy Bragg\, and by Carol and Fra DeVine. The VSO thanks The Paramount Theatre for its support of the Jukebox concert series\, and the Young Cultural Endowment for Rutland for VSO’s activities in the community.
URL:https://www.vso.org/vso-event/jukebox-strength-and-hope-rutland/
LOCATION:Paramount Theatre\, 30 Center St\, Rutland\, VT\, 05701\, United States
CATEGORIES:Jukebox
ATTACH;FMTTYPE=image/png:https://www.vso.org/wp-content/uploads/2025/06/Image5.png
END:VEVENT
END:VCALENDAR