BEGIN:VCALENDAR
VERSION:2.0
PRODID:-//Vermont Symphony Orchestra - ECPv6.15.17.1//NONSGML v1.0//EN
CALSCALE:GREGORIAN
METHOD:PUBLISH
X-WR-CALNAME:Vermont Symphony Orchestra
X-ORIGINAL-URL:https://www.vso.org
X-WR-CALDESC:Events for Vermont Symphony Orchestra
REFRESH-INTERVAL;VALUE=DURATION:PT1H
X-Robots-Tag:noindex
X-PUBLISHED-TTL:PT1H
BEGIN:VTIMEZONE
TZID:America/New_York
BEGIN:DAYLIGHT
TZOFFSETFROM:-0500
TZOFFSETTO:-0400
TZNAME:EDT
DTSTART:20240310T070000
END:DAYLIGHT
BEGIN:STANDARD
TZOFFSETFROM:-0400
TZOFFSETTO:-0500
TZNAME:EST
DTSTART:20241103T060000
END:STANDARD
BEGIN:DAYLIGHT
TZOFFSETFROM:-0500
TZOFFSETTO:-0400
TZNAME:EDT
DTSTART:20250309T070000
END:DAYLIGHT
BEGIN:STANDARD
TZOFFSETFROM:-0400
TZOFFSETTO:-0500
TZNAME:EST
DTSTART:20251102T060000
END:STANDARD
BEGIN:DAYLIGHT
TZOFFSETFROM:-0500
TZOFFSETTO:-0400
TZNAME:EDT
DTSTART:20260308T070000
END:DAYLIGHT
BEGIN:STANDARD
TZOFFSETFROM:-0400
TZOFFSETTO:-0500
TZNAME:EST
DTSTART:20261101T060000
END:STANDARD
END:VTIMEZONE
BEGIN:VEVENT
DTSTART;TZID=America/New_York:20250404T190000
DTEND;TZID=America/New_York:20250404T200000
DTSTAMP:20260423T015114
CREATED:20240501T124554Z
LAST-MODIFIED:20250313T143554Z
UID:10000236-1743793200-1743796800@www.vso.org
SUMMARY:Jukebox: Heavy Metal Strings - Rutland
DESCRIPTION:Buy Tickets \nThe Paramount Theatre and the VSO turn it up to 11 as the Jukebox quartet plugs in and goes electric for a rock and roll inspired show. We’ll rock out to classics by Van Halen\, Led Zeppelin\, Tool and others\, and also dig into rock-influenced and inspired music from the classical world – it doesn’t get any heavier than some Shostakovich! Hosted and curated by Matt LaRocca. \nBrooke Quiggins-Saulnier and Joana Genova\, violin\nStefanie Taylor\, viola\nJohn Dunlop\, cello \nDoors open at 6:30pm\, concert begins at 7:00pm. \n  \nThis concert is produced in partnership with The Paramount Theatre\, and is kindly supported by Bob Kenny and Pat Suozzi\, and the Young Cultural Endowment for Rutland.
URL:https://www.vso.org/vso-event/heavy-metal-strings-rutland/
LOCATION:Paramount Theatre\, 30 Center St\, Rutland\, VT\, 05701\, United States
CATEGORIES:Jukebox
ATTACH;FMTTYPE=image/jpeg:https://www.vso.org/wp-content/uploads/2023/02/JB-photo-shoot-feb4-22.jpg
END:VEVENT
BEGIN:VEVENT
DTSTART;TZID=America/New_York:20250405T150000
DTEND;TZID=America/New_York:20250405T160000
DTSTAMP:20260423T015114
CREATED:20250124T180000Z
LAST-MODIFIED:20250319T173746Z
UID:10000266-1743865200-1743868800@www.vso.org
SUMMARY:Juicebox: A Concert for Kids and Families - Brattleboro
DESCRIPTION:Learn More \n  \nWait – did you say Juicebox or Jukebox??? \nWe definitely said Juicebox! Bring the kids along to this free show designed for both children and parents. Our Jukebox String Quartet transforms into the Juicebox String Quartet\, and this time it’s all about how feelings and music go together. Geared towards ages 10 and under\, this show features interactive spots for the audience\, music set to The Feelings Book by NY Times best-selling author Todd Parr\, some musical jokes\, and (most importantly) dedicated wiggle and dance time for the little ones. \nFeaturing VSO Jukebox string quartet and Matt LaRocca\, curator and host \nDoors at 2:30pm\, show at 3:00pm. \nThis concert is generously sponsored by the Thomas Thompson Trust.
URL:https://www.vso.org/vso-event/juicebox-a-concert-for-kids-and-families-brat/
LOCATION:Brattleboro Music Center\, 72 Blanche Moyes Way\, Brattleboro\, 05301\, United States
CATEGORIES:Jukebox,Family Concert
ATTACH;FMTTYPE=image/png:https://www.vso.org/wp-content/uploads/2024/07/Juicebox-image-for-Northern-Stage-WRJ-April-2025.png
END:VEVENT
BEGIN:VEVENT
DTSTART;TZID=America/New_York:20250405T190000
DTEND;TZID=America/New_York:20250405T200000
DTSTAMP:20260423T015114
CREATED:20240501T124625Z
LAST-MODIFIED:20250328T171347Z
UID:10000238-1743879600-1743883200@www.vso.org
SUMMARY:Jukebox: Heavy Metal Strings - Brattleboro
DESCRIPTION:Buy Tickets \n  \nWe turn it up to 11 as the Jukebox quartet plugs in and goes electric for a rock and roll inspired show. We’ll rock out to classics by Van Halen\, Led Zeppelin\, Tool and others\, and also dig into rock-influenced and inspired music from the classical world – it doesn’t get any heavier than some Shostakovich! Hosted and curated by Matt LaRocca. \nBrooke Quiggins-Saulnier and Joana Genova\, violin\nStefanie Taylor\, viola\nJohn Dunlop\, cello \nDoors open at 6:30pm\, concert begins at 7:00pm. \nThis concert is produced in partnership with:
URL:https://www.vso.org/vso-event/jukebox-heavy-metal-strings-brat/
LOCATION:Brattleboro Music Center\, 72 Blanche Moyes Way\, Brattleboro\, 05301\, United States
CATEGORIES:Jukebox
ATTACH;FMTTYPE=image/jpeg:https://www.vso.org/wp-content/uploads/2023/02/JB-photo-shoot-feb4-22.jpg
END:VEVENT
BEGIN:VEVENT
DTSTART;TZID=America/New_York:20250406T110000
DTEND;TZID=America/New_York:20250406T120000
DTSTAMP:20260423T015114
CREATED:20240725T145817Z
LAST-MODIFIED:20250124T181027Z
UID:10000246-1743937200-1743940800@www.vso.org
SUMMARY:Juicebox: A Concert for Kids and Families
DESCRIPTION:Buy Tickets \n  \nWait – did you say Juicebox or Jukebox??? \nWe definitely said Juicebox! Bring the kids along to this show designed for both children and parents. Our Jukebox String Quartet transforms into the Juicebox String Quartet\, and this time it’s all about how feelings and music go together. Geared towards ages 10 and under\, this show features interactive spots for the audience\, music set to The Feelings Book by NY Times best-selling author Todd Parr\, some musical jokes\, and (most importantly) dedicated wiggle and dance time for the little ones. \nFeaturing VSO Jukebox string quartet and Matt LaRocca\, curator and host \nTickets are $5 for kids\, $10 for adults. Doors at 10:30am\, concert at 11:00am.  \nAvailable spring of 2025 at https://northernstage.org \nThis concert is generously sponsored by the Jack and Dorothy Byrne Foundation and is produced in partnership with Northern Stage.
URL:https://www.vso.org/vso-event/juicebox-a-concert-for-kids-and-families/
LOCATION:Northern Stage\, 74 Gates St\, White River Junction\, VT\, 05001\, United States
CATEGORIES:Jukebox,Family Concert
ATTACH;FMTTYPE=image/png:https://www.vso.org/wp-content/uploads/2024/07/Juicebox-image-for-Northern-Stage-WRJ-April-2025.png
END:VEVENT
BEGIN:VEVENT
DTSTART;TZID=America/New_York:20250406T140000
DTEND;TZID=America/New_York:20250406T153000
DTSTAMP:20260423T015114
CREATED:20240501T124629Z
LAST-MODIFIED:20250124T181009Z
UID:10000239-1743948000-1743953400@www.vso.org
SUMMARY:Jukebox: Heavy Metal Strings - White River Junction
DESCRIPTION:Buy Tickets \n  \nWe turn it up to 11 as the Jukebox quartet plugs in and goes electric for a rock and roll inspired show. We’ll rock out to classics by Van Halen\, Led Zeppelin\, Tool and others\, and also dig into rock-influenced and inspired music from the classical world – it doesn’t get any heavier than some Shostakovich! Hosted and curated by Matt LaRocca. \nBrooke Quiggins-Saulnier and Joana Genova\, violin\nStefanie Taylor\, viola\nJohn Dunlop\, cello \nDoors open at 1:30pm\, concert begins at 2:00pm. \n  \nThis concert is generously sponsored by the Jack and Dorothy Byrne Foundation and is produced in partnership with Northern Stage.
URL:https://www.vso.org/vso-event/jukebox-heavy-metal-strings-wrj/
LOCATION:Northern Stage\, 74 Gates St\, White River Junction\, VT\, 05001\, United States
CATEGORIES:Jukebox
ATTACH;FMTTYPE=image/jpeg:https://www.vso.org/wp-content/uploads/2023/02/JB-photo-shoot-feb4-22.jpg
END:VEVENT
BEGIN:VEVENT
DTSTART;TZID=America/New_York:20250411T180000
DTEND;TZID=America/New_York:20250411T190000
DTSTAMP:20260423T015114
CREATED:20240501T124601Z
LAST-MODIFIED:20250121T032940Z
UID:10000237-1744394400-1744398000@www.vso.org
SUMMARY:Jukebox: Heavy Metal Strings - Burlington (6:00pm)
DESCRIPTION:Buy Tickets \nWe turn it up to 11 as the Jukebox quartet plugs in and goes electric for a rock and roll inspired show. We’ll rock out to classics by Van Halen\, Led Zeppelin\, Tool and others\, and also dig into rock-influenced and inspired music from the classical world – it doesn’t get any heavier than some Shostakovich! Hosted and curated by Matt LaRocca. \nBrooke Quiggins-Saulnier and Joana Genova\, violin\nStefanie Taylor\, viola\nJohn Dunlop\, cello \nDoors open at 5:30pm\, concert begins at 6:00pm. \n  \nThis concert is produced in partnership with ArtsRiot\, and is generously sponsored by Northfield Savings Bank Innovation Fund\, and Bob Kenny and Pat Suozzi.
URL:https://www.vso.org/vso-event/jukebox-heavy-metal-strings-btv/
LOCATION:ArtsRiot\, 400 Pine St\, Burlington\, VT\, 05401\, United States
CATEGORIES:Jukebox
ATTACH;FMTTYPE=image/jpeg:https://www.vso.org/wp-content/uploads/2023/02/JB-photo-shoot-feb4-22.jpg
END:VEVENT
BEGIN:VEVENT
DTSTART;TZID=America/New_York:20250411T203000
DTEND;TZID=America/New_York:20250411T213000
DTSTAMP:20260423T015114
CREATED:20250102T221511Z
LAST-MODIFIED:20250121T033023Z
UID:10000265-1744403400-1744407000@www.vso.org
SUMMARY:Jukebox: Heavy Metal Strings - Burlington (8:30pm)
DESCRIPTION:Buy Tickets \nWe turn it up to 11 as the Jukebox quartet plugs in and goes electric for a rock and roll inspired show. We’ll rock out to classics by Van Halen\, Led Zeppelin\, Tool and others\, and also dig into rock-influenced and inspired music from the classical world – it doesn’t get any heavier than some Shostakovich! Hosted and curated by Matt LaRocca. \nBrooke Quiggins-Saulnier and Joana Genova\, violin\nStefanie Taylor\, viola\nJohn Dunlop\, cello \nDoors open at 8:00pm\, concert begins at 8:30pm. \n  \nThis concert is produced in partnership with ArtsRiot\, and is generously sponsored by Northfield Savings Bank Innovation Fund\, and Bob Kenny and Pat Suozzi.
URL:https://www.vso.org/vso-event/jukebox-heavy-metal-strings-btv-830/
LOCATION:ArtsRiot\, 400 Pine St\, Burlington\, VT\, 05401\, United States
CATEGORIES:Jukebox
ATTACH;FMTTYPE=image/jpeg:https://www.vso.org/wp-content/uploads/2023/02/JB-photo-shoot-feb4-22.jpg
END:VEVENT
BEGIN:VEVENT
DTSTART;TZID=America/New_York:20250412T140000
DTEND;TZID=America/New_York:20250412T150000
DTSTAMP:20260423T015114
CREATED:20240501T211654Z
LAST-MODIFIED:20250124T180919Z
UID:10000241-1744466400-1744470000@www.vso.org
SUMMARY:Jukebox: Heavy Metal Strings - Bennington
DESCRIPTION:We turn it up to 11 as the Jukebox quartet plugs in and goes electric for a rock and roll inspired show. We’ll rock out to classics by Van Halen\, Led Zeppelin\, Tool and others\, and also dig into rock-influenced and inspired music from the classical world – it doesn’t get any heavier than some Shostakovich! Hosted and curated by Matt LaRocca. \nBrooke Quiggins-Saulnier and Joana Genova\, violin\nStefanie Taylor\, viola\nJohn Dunlop\, cello \nDoors open at 1:30pm\, concert begins at 2:00pm. This concert is free\, courtesy of Bennington Museum as part of their Music at the Museum series.  \nThis concert is produced in partnership with Bennington Museum.
URL:https://www.vso.org/vso-event/jukebox-heavy-metal-strings-bennington/
LOCATION:Bennington Museum\, 75 Main St\, Bennington\, 05201\, United States
CATEGORIES:Jukebox
ATTACH;FMTTYPE=image/jpeg:https://www.vso.org/wp-content/uploads/2023/02/JB-photo-shoot-feb4-22.jpg
END:VEVENT
END:VCALENDAR