BEGIN:VCALENDAR
VERSION:2.0
PRODID:-//Vermont Symphony Orchestra - ECPv6.15.17.1//NONSGML v1.0//EN
CALSCALE:GREGORIAN
METHOD:PUBLISH
X-ORIGINAL-URL:https://www.vso.org
X-WR-CALDESC:Events for Vermont Symphony Orchestra
REFRESH-INTERVAL;VALUE=DURATION:PT1H
X-Robots-Tag:noindex
X-PUBLISHED-TTL:PT1H
BEGIN:VTIMEZONE
TZID:America/New_York
BEGIN:DAYLIGHT
TZOFFSETFROM:-0500
TZOFFSETTO:-0400
TZNAME:EDT
DTSTART:20230312T070000
END:DAYLIGHT
BEGIN:STANDARD
TZOFFSETFROM:-0400
TZOFFSETTO:-0500
TZNAME:EST
DTSTART:20231105T060000
END:STANDARD
BEGIN:DAYLIGHT
TZOFFSETFROM:-0500
TZOFFSETTO:-0400
TZNAME:EDT
DTSTART:20240310T070000
END:DAYLIGHT
BEGIN:STANDARD
TZOFFSETFROM:-0400
TZOFFSETTO:-0500
TZNAME:EST
DTSTART:20241103T060000
END:STANDARD
BEGIN:DAYLIGHT
TZOFFSETFROM:-0500
TZOFFSETTO:-0400
TZNAME:EDT
DTSTART:20250309T070000
END:DAYLIGHT
BEGIN:STANDARD
TZOFFSETFROM:-0400
TZOFFSETTO:-0500
TZNAME:EST
DTSTART:20251102T060000
END:STANDARD
END:VTIMEZONE
BEGIN:VEVENT
DTSTART;TZID=America/New_York:20241110T190000
DTEND;TZID=America/New_York:20241110T203000
DTSTAMP:20260425T074256
CREATED:20241008T165443Z
LAST-MODIFIED:20241008T165444Z
UID:10000251-1731265200-1731270600@www.vso.org
SUMMARY:Community String Quartet Concert
DESCRIPTION:From Elgar to Gershwin and Bach to the Beatles\, this free\, early winter program celebrates a wide range of musical styles all suited for a string quartet. Join us at Chester Town Hall as they host VSO violinists Jane Kittredge and Brooke Quiggins-Saulnier\, violist Stefanie Taylor\, and cellist Perri Morris for an evening of popular music from George Gershwin to Edith Piaf and Danish String Quartet to The Beatles.  \nNo registration required. For any questions about attending the event\, please call 802-374-0094.
URL:https://www.vso.org/vso-event/community-string-quartet-concert/
LOCATION:Chester Town Hall\, 556 Elm St\, Chester\, VT\, 05143\, United States
CATEGORIES:Free Concert
ATTACH;FMTTYPE=image/jpeg:https://www.vso.org/wp-content/uploads/2024/10/Chester-Town-Hall-Nov-2024.jpg
END:VEVENT
END:VCALENDAR