BEGIN:VCALENDAR
VERSION:2.0
PRODID:-//Vermont Symphony Orchestra - ECPv6.15.17.1//NONSGML v1.0//EN
CALSCALE:GREGORIAN
METHOD:PUBLISH
X-ORIGINAL-URL:https://www.vso.org
X-WR-CALDESC:Events for Vermont Symphony Orchestra
REFRESH-INTERVAL;VALUE=DURATION:PT1H
X-Robots-Tag:noindex
X-PUBLISHED-TTL:PT1H
BEGIN:VTIMEZONE
TZID:America/New_York
BEGIN:DAYLIGHT
TZOFFSETFROM:-0500
TZOFFSETTO:-0400
TZNAME:EDT
DTSTART:20240310T070000
END:DAYLIGHT
BEGIN:STANDARD
TZOFFSETFROM:-0400
TZOFFSETTO:-0500
TZNAME:EST
DTSTART:20241103T060000
END:STANDARD
BEGIN:DAYLIGHT
TZOFFSETFROM:-0500
TZOFFSETTO:-0400
TZNAME:EDT
DTSTART:20250309T070000
END:DAYLIGHT
BEGIN:STANDARD
TZOFFSETFROM:-0400
TZOFFSETTO:-0500
TZNAME:EST
DTSTART:20251102T060000
END:STANDARD
BEGIN:DAYLIGHT
TZOFFSETFROM:-0500
TZOFFSETTO:-0400
TZNAME:EDT
DTSTART:20260308T070000
END:DAYLIGHT
BEGIN:STANDARD
TZOFFSETFROM:-0400
TZOFFSETTO:-0500
TZNAME:EST
DTSTART:20261101T060000
END:STANDARD
END:VTIMEZONE
BEGIN:VEVENT
DTSTART;TZID=America/New_York:20251114T190000
DTEND;TZID=America/New_York:20251114T210000
DTSTAMP:20260422T151303
CREATED:20250513T141706Z
LAST-MODIFIED:20251101T122456Z
UID:10000294-1763146800-1763154000@www.vso.org
SUMMARY:Made in Vermont with The Moth Radio Hour - Stowe
DESCRIPTION:Buy Tickets \nVSO’s string orchestra is joined by The Moth Radio Hour guests from Vermont for a concert with storytelling at its heart. Music by Edvard Grieg\, Edward Elgar\, Sonny-Ray Day Rider and more are interspersed with and underscore storytelling about summer family camping adventures\, an angel in the winter\, road trips\, and narration of Robert Frost and Calvin Coolidge writings. The concert concludes with Benjamin Britten’s Simple Symphony based on musical themes the composer wrote as a child. Conducted by VSO Music Director Andrew Crust. \n\nMoth Radio Story Hour storytellers: Bill Patton\, Stephen P. Kiernan\, Susanne Schmidt \n \n  \nPROGRAM \nJoaquin Turina – La oración del torero (The Bullfighter’s Prayer) \nEdward Elgar – Salut d’amour \nSonny-Ray Day Rider – The Grief Eater Firaga\, II. Blood Elegy \nEdward Elgar – Sospiri \nLeroy Anderson – Plink\, Plank\, Plunk\n \nIntermission \nEdvard Grieg – Holberg Suite\nI. Praeludium\, allegro vivace\nIII. Gavotte\n \nEdward Elgar/Reed – Chanson de matin \nBenjamin Britten – Simple Symphony\nI. Boisterous Bourrée\nII. Playful Pizzicato\nIV. Frolicsome Finale \n  \nThis concert is generously supported by Trust Company of Vermont and generous individual donors. \n \nThis concert is produced in partnership with: \n       \n 
URL:https://www.vso.org/vso-event/made-in-vermont-with-the-moth-radio-hour-stowe/
LOCATION:Spruce Peak Performing Arts Center\, 122 Hourglass Drive\, Stowe\, VT\, VT\, 05672-5299\, United States
CATEGORIES:Made in Vermont
ATTACH;FMTTYPE=image/png:https://www.vso.org/wp-content/uploads/2025/04/miv1920x1080.png
END:VEVENT
END:VCALENDAR