BEGIN:VCALENDAR
VERSION:2.0
PRODID:-//Vermont Symphony Orchestra - ECPv6.15.17.1//NONSGML v1.0//EN
CALSCALE:GREGORIAN
METHOD:PUBLISH
X-ORIGINAL-URL:https://www.vso.org
X-WR-CALDESC:Events for Vermont Symphony Orchestra
REFRESH-INTERVAL;VALUE=DURATION:PT1H
X-Robots-Tag:noindex
X-PUBLISHED-TTL:PT1H
BEGIN:VTIMEZONE
TZID:America/New_York
BEGIN:DAYLIGHT
TZOFFSETFROM:-0500
TZOFFSETTO:-0400
TZNAME:EDT
DTSTART:20240310T070000
END:DAYLIGHT
BEGIN:STANDARD
TZOFFSETFROM:-0400
TZOFFSETTO:-0500
TZNAME:EST
DTSTART:20241103T060000
END:STANDARD
BEGIN:DAYLIGHT
TZOFFSETFROM:-0500
TZOFFSETTO:-0400
TZNAME:EDT
DTSTART:20250309T070000
END:DAYLIGHT
BEGIN:STANDARD
TZOFFSETFROM:-0400
TZOFFSETTO:-0500
TZNAME:EST
DTSTART:20251102T060000
END:STANDARD
BEGIN:DAYLIGHT
TZOFFSETFROM:-0500
TZOFFSETTO:-0400
TZNAME:EDT
DTSTART:20260308T070000
END:DAYLIGHT
BEGIN:STANDARD
TZOFFSETFROM:-0400
TZOFFSETTO:-0500
TZNAME:EST
DTSTART:20261101T060000
END:STANDARD
END:VTIMEZONE
BEGIN:VEVENT
DTSTART;TZID=America/New_York:20250301T180000
DTEND;TZID=America/New_York:20250301T190000
DTSTAMP:20260423T033736
CREATED:20241220T170425Z
LAST-MODIFIED:20250228T011542Z
UID:10000264-1740852000-1740855600@www.vso.org
SUMMARY:VSO at BETA Technologies: Flight Test - 6pm
DESCRIPTION:The 6:00 performance is SOLD OUT. \nBuy Tickets for 8:30 \nThe VSO returns to Vermont’s center of innovation with Flight Test\, an unforgettable concert of vocal and instrumental music in BETA’s original hangar. This concert features the VSO’s 40-voice chorus\, pianist Mary Jane Austin\, violinist Brooke Quiggins\, and cellist John Dunlop in an immersive soundscape curated and led by Matt LaRocca\, VSO’s Artistic Advisor and Project Conductor. Lose yourself in a world of music both ancient and modern\, surrounded by the cathedral-like acoustics of the hangar with stunning projections to complete the experience. Flight Test’s video projections are created by Champlain College Emergent Media Center students and teachers\, wrapping up a three year educational partnership between the VSO and the college. \nThe concert is one hour with no intermission; parking is available at the Patrick Leahy Burlington Airport general parking garage. \nPROGRAM \nĒriks Ešenvalds – Stars\nB.E. Boykin – Silver Rain\nArvo Pärt – Spiegel im spiegel\nFrederic Chopin – Fantasie Impromptu\nWilliam Byrd – Ave Verum Corpus\nJennifer Higdon – Pale yellow\nElaine Hagenberg – By Night \nThis concert is generously sponsored by Northfield Savings Bank Innovation Fund\, National Endowment for the Arts\, Choral Arts New England\, the Robert De Cormier and the William Gray Vocal Music Funds (via VSO’s endowed funds)\, and private donors. VSO thanks BETA Technologies for their partnership with this program\, and Media Factory for their in-kind support. \n                       \n  \n                 
URL:https://www.vso.org/vso-event/vso-at-beta-technologies-flight-test-6pm/
LOCATION:BETA Technologies\, 1150 Airport Drive\, South Burlington\, VT\, 05403\, United States
CATEGORIES:Chamber Trio & Chorus
ATTACH;FMTTYPE=image/png:https://www.vso.org/wp-content/uploads/2024/12/betawebimage.png
END:VEVENT
BEGIN:VEVENT
DTSTART;TZID=America/New_York:20250301T203000
DTEND;TZID=America/New_York:20250301T213000
DTSTAMP:20260423T033736
CREATED:20241220T140053Z
LAST-MODIFIED:20250228T011919Z
UID:10000263-1740861000-1740864600@www.vso.org
SUMMARY:VSO at BETA Technologies: Flight Test - 8:30pm
DESCRIPTION:Buy Tickets\nThe VSO returns to Vermont’s center of innovation with Flight Test\, an unforgettable concert of vocal and instrumental music in BETA’s original hangar. This concert features the VSO’s 40-voice chorus\, pianist Mary Jane Austin\, violinist Brooke Quiggins\, and cellist John Dunlop in an immersive soundscape curated and led by Matt LaRocca\, VSO’s Artistic Advisor and Project Conductor. Lose yourself in a world of music both ancient and modern\, surrounded by the cathedral-like acoustics of the hangar with stunning projections to complete the experience. Flight Test’s video projections are created by Champlain College Emergent Media Center students and teachers\, wrapping up a three year educational partnership between the VSO and the college. \nThe concert is one hour with no intermission; parking is available at the Patrick Leahy Burlington Airport general parking garage. \nĒriks Ešenvalds – Stars\nB.E. Boykin – Silver Rain\nArvo Pärt – Spiegel im spiegel\nFrederic Chopin – Fantasie Impromptu\nWilliam Byrd – Ave Verum Corpus\nJennifer Higdon – Pale yellow\nElaine Hagenberg – By Night \n  \nThis concert is generously sponsored by Northfield Savings Bank Innovation Fund\, National Endowment for the Arts\, Choral Arts New England\, the Robert De Cormier and the William Gray Vocal Music Funds (via VSO’s endowed funds)\, and private donors. VSO thanks BETA Technologies for their partnership with this program\, and Media Factory for their in-kind support. \n                             \n  \n           
URL:https://www.vso.org/vso-event/vso-at-beta-technologies-flight-test-830pm/
LOCATION:BETA Technologies\, 1150 Airport Drive\, South Burlington\, VT\, 05403\, United States
CATEGORIES:Chamber Trio & Chorus
ATTACH;FMTTYPE=image/png:https://www.vso.org/wp-content/uploads/2024/12/betawebimage.png
END:VEVENT
END:VCALENDAR