BEGIN:VCALENDAR
VERSION:2.0
PRODID:-//Vermont Symphony Orchestra - ECPv6.15.17.1//NONSGML v1.0//EN
CALSCALE:GREGORIAN
METHOD:PUBLISH
X-WR-CALNAME:Vermont Symphony Orchestra
X-ORIGINAL-URL:https://www.vso.org
X-WR-CALDESC:Events for Vermont Symphony Orchestra
REFRESH-INTERVAL;VALUE=DURATION:PT1H
X-Robots-Tag:noindex
X-PUBLISHED-TTL:PT1H
BEGIN:VTIMEZONE
TZID:America/New_York
BEGIN:DAYLIGHT
TZOFFSETFROM:-0500
TZOFFSETTO:-0400
TZNAME:EDT
DTSTART:20250309T070000
END:DAYLIGHT
BEGIN:STANDARD
TZOFFSETFROM:-0400
TZOFFSETTO:-0500
TZNAME:EST
DTSTART:20251102T060000
END:STANDARD
BEGIN:DAYLIGHT
TZOFFSETFROM:-0500
TZOFFSETTO:-0400
TZNAME:EDT
DTSTART:20260308T070000
END:DAYLIGHT
BEGIN:STANDARD
TZOFFSETFROM:-0400
TZOFFSETTO:-0500
TZNAME:EST
DTSTART:20261101T060000
END:STANDARD
BEGIN:DAYLIGHT
TZOFFSETFROM:-0500
TZOFFSETTO:-0400
TZNAME:EDT
DTSTART:20270314T070000
END:DAYLIGHT
BEGIN:STANDARD
TZOFFSETFROM:-0400
TZOFFSETTO:-0500
TZNAME:EST
DTSTART:20271107T060000
END:STANDARD
END:VTIMEZONE
BEGIN:VEVENT
DTSTART;VALUE=DATE:20260520
DTEND;VALUE=DATE:20260521
DTSTAMP:20260423T004632
CREATED:20260112T161301Z
LAST-MODIFIED:20260112T161301Z
UID:10000345-1779235200-1779321599@www.vso.org
SUMMARY:Musicians-in-Schools: Newport
DESCRIPTION:This event is not open to the public.
URL:https://www.vso.org/vso-event/musicians-in-schools-newport-2/
LOCATION:VT
CATEGORIES:Education
END:VEVENT
BEGIN:VEVENT
DTSTART;VALUE=DATE:20260520
DTEND;VALUE=DATE:20260521
DTSTAMP:20260423T004632
CREATED:20260112T161313Z
LAST-MODIFIED:20260112T161313Z
UID:10000346-1779235200-1779321599@www.vso.org
SUMMARY:Musicians-in-Schools: Troy
DESCRIPTION:This event is not open to the public.
URL:https://www.vso.org/vso-event/musicians-in-schools-troy/
LOCATION:VT
CATEGORIES:Education
END:VEVENT
BEGIN:VEVENT
DTSTART;VALUE=DATE:20260520
DTEND;VALUE=DATE:20260521
DTSTAMP:20260423T004632
CREATED:20260112T161327Z
LAST-MODIFIED:20260112T161327Z
UID:10000347-1779235200-1779321599@www.vso.org
SUMMARY:Musicians-in-Schools: Jay
DESCRIPTION:This event is not open to the public.
URL:https://www.vso.org/vso-event/musicians-in-schools-jay/
LOCATION:VT
CATEGORIES:Education
END:VEVENT
END:VCALENDAR