BEGIN:VCALENDAR
VERSION:2.0
PRODID:-//Vermont Symphony Orchestra - ECPv6.15.17.1//NONSGML v1.0//EN
CALSCALE:GREGORIAN
METHOD:PUBLISH
X-ORIGINAL-URL:https://www.vso.org
X-WR-CALDESC:Events for Vermont Symphony Orchestra
REFRESH-INTERVAL;VALUE=DURATION:PT1H
X-Robots-Tag:noindex
X-PUBLISHED-TTL:PT1H
BEGIN:VTIMEZONE
TZID:America/New_York
BEGIN:DAYLIGHT
TZOFFSETFROM:-0500
TZOFFSETTO:-0400
TZNAME:EDT
DTSTART:20220313T070000
END:DAYLIGHT
BEGIN:STANDARD
TZOFFSETFROM:-0400
TZOFFSETTO:-0500
TZNAME:EST
DTSTART:20221106T060000
END:STANDARD
BEGIN:DAYLIGHT
TZOFFSETFROM:-0500
TZOFFSETTO:-0400
TZNAME:EDT
DTSTART:20230312T070000
END:DAYLIGHT
BEGIN:STANDARD
TZOFFSETFROM:-0400
TZOFFSETTO:-0500
TZNAME:EST
DTSTART:20231105T060000
END:STANDARD
BEGIN:DAYLIGHT
TZOFFSETFROM:-0500
TZOFFSETTO:-0400
TZNAME:EDT
DTSTART:20240310T070000
END:DAYLIGHT
BEGIN:STANDARD
TZOFFSETFROM:-0400
TZOFFSETTO:-0500
TZNAME:EST
DTSTART:20241103T060000
END:STANDARD
END:VTIMEZONE
BEGIN:VEVENT
DTSTART;TZID=America/New_York:20231210T150000
DTEND;TZID=America/New_York:20231210T170000
DTSTAMP:20260424T213444
CREATED:20230506T232138Z
LAST-MODIFIED:20231128T130429Z
UID:10000184-1702220400-1702227600@www.vso.org
SUMMARY:Holiday Pops with Myra Flynn - Rutland
DESCRIPTION:BUY TICKETS HERE \nVermont’s own indie-soul queen Myra Flynn joins the VSO for its annual family-friendly orchestra holiday concert. We’ll explore familiar melodies\, bring some jazz flair to a holiday classic\, and enjoy Flynn’s soulful voice as she brings to life Christmas carols\, folk music\, and one of her own original compositions. We’ll also spotlight VSO Assistant Concertmaster Kathy Andrew as our violin soloist for Vivaldi’s enchanting piece.  \nAn audience holiday sing-a-long is included! This concert is conducted by VSO Music Director\, Andrew Crust. \n“Myra’s vocals absolutely raise the music to a higher plain … Myra’s voice is something that really hits you square in the jaw. It’s sultry and silky smooth …” Higher Plain Music \n  \nPROGRAM \nA Most Wonderful Christmas (arr. Robert Sheldon)\nJONI MITCHELL (arr. Karl Hirzer)   River\nChristmas carol sing-a-long (arr. Dan Goeller)\nANTONIO VIVALDI   The Four Seasons: Winter\nVICTOR HELY-HUTCHINSON   A Carol Symphony\nI. Allegro Energico \nIntermission \nLEROY ANDERSON   Christmas Festival Overture\nMEL TORMÉ (arr. Bob Lowden)   The Christmas Song\nMYRA FLYNN   Mama Song\nDUKE ELLINGTON (arr. Jeff Tyzik)   The Nutcracker Suite\n1. Overture\n2. Toot Toot Tootie Toot (Dance of the Reed Pipes)\n3. Peanut Brittle Brigade\nLEROY ANDERSON   Sleigh Ride \n\nHoliday Pops Food Shelf Initiative: \nThe VSO is partnering with Black River Good Neighbor Services this season! Bring a canned good with you to the Paramount on December 10\, and you’ll be put in a raffle to receive a holiday gift during the concert. All donated items will be brought to Black River Good Neighbor Services by VSO volunteers.  Suggested donations inclue:\n \nCoffee       Mayo       Mustard       Ketchup       Baked beans       Soup       Pasta sauce       Gluten-free products\nSoap       Shampoo       Toothpaste       Dish detergent \n  \n  For accessibility information at this venue\, please contact The Paramount at 802.775.0570 x201 or email hello@paramountvt.org. \nThis concert is made possible by the generosity of our sponsors:
URL:https://www.vso.org/vso-event/holiday-pops-with-myra-flynn-rutland/
LOCATION:Paramount Theatre\, 30 Center St\, Rutland\, VT\, 05701\, United States
CATEGORIES:Rutland,Holiday
ATTACH;FMTTYPE=image/jpeg:https://www.vso.org/wp-content/uploads/2023/05/VSO-Tile-HolidayPops.jpg
END:VEVENT
END:VCALENDAR