BEGIN:VCALENDAR
VERSION:2.0
PRODID:-//Vermont Symphony Orchestra - ECPv6.15.17.1//NONSGML v1.0//EN
CALSCALE:GREGORIAN
METHOD:PUBLISH
X-WR-CALNAME:Vermont Symphony Orchestra
X-ORIGINAL-URL:https://www.vso.org
X-WR-CALDESC:Events for Vermont Symphony Orchestra
REFRESH-INTERVAL;VALUE=DURATION:PT1H
X-Robots-Tag:noindex
X-PUBLISHED-TTL:PT1H
BEGIN:VTIMEZONE
TZID:America/New_York
BEGIN:DAYLIGHT
TZOFFSETFROM:-0500
TZOFFSETTO:-0400
TZNAME:EDT
DTSTART:20210314T070000
END:DAYLIGHT
BEGIN:STANDARD
TZOFFSETFROM:-0400
TZOFFSETTO:-0500
TZNAME:EST
DTSTART:20211107T060000
END:STANDARD
BEGIN:DAYLIGHT
TZOFFSETFROM:-0500
TZOFFSETTO:-0400
TZNAME:EDT
DTSTART:20220313T070000
END:DAYLIGHT
BEGIN:STANDARD
TZOFFSETFROM:-0400
TZOFFSETTO:-0500
TZNAME:EST
DTSTART:20221106T060000
END:STANDARD
BEGIN:DAYLIGHT
TZOFFSETFROM:-0500
TZOFFSETTO:-0400
TZNAME:EDT
DTSTART:20230312T070000
END:DAYLIGHT
BEGIN:STANDARD
TZOFFSETFROM:-0400
TZOFFSETTO:-0500
TZNAME:EST
DTSTART:20231105T060000
END:STANDARD
END:VTIMEZONE
BEGIN:VEVENT
DTSTART;TZID=America/New_York:20221209T193000
DTEND;TZID=America/New_York:20221209T213000
DTSTAMP:20260425T123509
CREATED:20221006T142517Z
LAST-MODIFIED:20221209T182212Z
UID:10000143-1670614200-1670621400@www.vso.org
SUMMARY:Holiday Pops at Barre Opera House
DESCRIPTION:TONIGHT’S CONCERT IS SOLD OUT \nWhat better way to celebrate December than with festive music\, singing holiday favorites\, and storytelling by one of Vermont’s most beloved radio hosts? Join our guest conductor Anthony Parnther\, Vermont Public host Jane Lindholm\, singers from the Lyric Theatre\, and your Vermont Symphony Orchestra for a concert to get you in a joyful mood for the season. Enjoy well-known favorites like Tchaikovsky’s The Nutcracker\, Anderson’s Sleigh Ride\, and the Ukrainian Carol of the Bells\, alongside new-to-VSO holiday repertoire by Rosephanye Powell and Darin Kelly\, a reading of The Night Before Christmas\, carols and an audience holiday sing-a-long! \nProgram: \nColeridge-Taylor (arr. Baynes) – Christmas Overture\nBach-Gounod (arr. Dragon) – Ave Maria\nLeontovich (arr. TBD) – The Carol of the Bells\nTchaikovsky – Nutcracker Suite\nThe Battle (Act 1\, No. 7)\nIn the Christmas Tree (Act 1\, No. 8)\nWaltz of the Flowers (Act 2\, No. 13)\nRandol Bass – The Night Before Christmas \nIntermission \nRosaphanye Powell – Christmas Memories\nAdam Silvestri – Christmas Carol (Main Title)\nAdam – O Holy Night\nDarin Kelly – Of Night and Lights\nDragon – Jingle Bells Fantasy\nAnderson – Sleigh Ride\nJohn Finnegan – Christmas Sing-Along \n  \nHoliday Pops Food Shelf Initiative: \nThe VSO is partnering with the Spaulding High School Food Shelf this season! Bring a canned good with you to the Barre Opera House on December 9\, and you’ll be put in a raffle to receive a holiday gift during the concert. All donated items will be brought to the Spaulding High School Food Shelf by VSO volunteers. Click the above link to learn more about what you can bring. \n  \nThis concert is generously sponsored by:
URL:https://www.vso.org/vso-event/holiday-pops-at-barre-opera-house/
LOCATION:Barre Opera House\, 6 North Main St\, Barre\, VT\, 05641\, United States
CATEGORIES:Holiday,Barre,Pops
ATTACH;FMTTYPE=image/png:https://www.vso.org/wp-content/uploads/2022/10/WEB-HEADER-HOLIDAY-POPS-NOV22-1920-×-1080-px-1.png
END:VEVENT
BEGIN:VEVENT
DTSTART;TZID=America/New_York:20221211T150000
DTEND;TZID=America/New_York:20221211T170000
DTSTAMP:20260425T123509
CREATED:20221006T144219Z
LAST-MODIFIED:20230111T165949Z
UID:10000145-1670770800-1670778000@www.vso.org
SUMMARY:Holiday Pops at the Paramount
DESCRIPTION:Buy Tickets Here \nWhat better way to celebrate December with festive music\, singing holiday favorites\, and storytelling by one of Vermont’s most beloved radio hosts? Join our guest conductor Anthony Parnther\, Vermont Public host Jane Lindholm\, singers from the Lyric Theatre\, and your Vermont Symphony Orchestra for a concert to get you in a joyful mood for the season. Enjoy well-known favorites like Tchaikovsky’s The Nutcracker\, Anderson’s Sleigh Ride\, and the Ukrainian Carol of the Bells\, alongside new-to-VSO holiday repertoire by Rosephanye Powell and Darin Kelly\, a reading of The Night Before Christmas\, carols and an audience holiday sing-a-long! \nProgram: \nColeridge-Taylor (arr. Baynes) – Christmas Overture\nBach-Gounod (arr. Dragon) – Ave Maria\nLeontovich (arr. TBD) – The Carol of the Bells\nTchaikovsky – Nutcracker Suite\nThe Battle (Act 1\, No. 7)\nIn the Christmas Tree (Act 1\, No. 8)\nWaltz of the Flowers (Act 2\, No. 13)\nRandol Bass – The Night Before Christmas \nIntermission \nRosaphanye Powell – Christmas Memories\nAdam Silvestri – Christmas Carol (Main Title)\nAdam – O Holy Night\nDarin Kelly – Of Night and Lights\nDragon – Jingle Bells Fantasy\nAnderson – Sleigh Ride\nJohn Finnegan – Christmas Sing-Along \n  \nHoliday Pops Food Shelf Initiative: \nThe VSO is partnering with Black River Good Neighbor Services this season! Bring a canned good with you to the Paramount on December 11\, and you’ll be put in a raffle to receive a holiday gift during the concert. All donated items will be brought to Black River Good Neighbor Services by VSO volunteers. Click the above link to learn more about what you can bring. \nThis concert is generously sponsored by: \n \nAdditional funding in part by The Young Cultural Endowment for Rutland Fund.
URL:https://www.vso.org/vso-event/holiday-pops-at-the-paramount/
LOCATION:Paramount Theatre\, 30 Center St\, Rutland\, VT\, 05701\, United States
CATEGORIES:Rutland,Holiday,Pops
ATTACH;FMTTYPE=image/png:https://www.vso.org/wp-content/uploads/2022/10/WEB-HEADER-HOLIDAY-POPS-NOV22-1920-×-1080-px-1.png
END:VEVENT
BEGIN:VEVENT
DTSTART;TZID=America/New_York:20221214T193000
DTEND;TZID=America/New_York:20221214T213000
DTSTAMP:20260425T123509
CREATED:20221006T145331Z
LAST-MODIFIED:20221115T165523Z
UID:10000147-1671046200-1671053400@www.vso.org
SUMMARY:Brass Quintet & Counterpoint at Woodstock Town Hall Theatre
DESCRIPTION:Buy Tickets Here \nIn 2022\, one of our favorite annual holiday offerings tours to Woodstock\, Warren\, Newport\, Grafton\, and Manchester for programs of music and cheer. Each Brass Quintet & Counterpoint concert features a perfect blend of brass and voices alongside the premiere of a Music-COMP student composition. Don’t miss out on this seasonal treat\, conducted by Nathaniel G. Lew\, produced in conjunction with Pentangle Arts. \nProgram: \nDe Cormier\, arr.  – Joy to the World *\nSpeer –  Sonata from Die Bankelsängerlieder +\nPrice – Adoration +\nEnglish Folk Tune\, arr. Gale – What Child is This +\nRichard Price\, arr. – Sussex Carol +\nGwyneth Walker – The Christ-child’s Lullaby ^\nMolly Caffry – If Fire Danced with Fire ^\nSara Doncaster\, arr. – Apple Tree Wassail ^\nLili Boulanger\, arr. Nathaniel G. Lew – Psalm 24 * \nINTERMISSION \nBerlin – White Christmas *\nMichael John Trotta – Veni Emmanuel ^\nFoley – There is No Rose ^\nMarks\, arr. Frackenpohl – Rudolph +\nGuaraldi – Christmas Time is Here from “A Charlie Brown Christmas” +\nHague\, arr. Bjornes\, – You’re a Mean One\, Mr. Grinch +\nTraditional\, arr. Nathaniel G. Lew – Angels We Have Heard on High * \n+ Brass Quintet piece\n^ Counterpoint piece\n* Joint Brass Quintet & Counterpoint piece
URL:https://www.vso.org/vso-event/brass-quintet-counterpoint-at-woodstock-town-hall-theatre/
LOCATION:Woodstock Town Hall Theatre\, 31 The Green\, Woodstock\, VT\, 05091\, United States
CATEGORIES:Brass Quintet
ATTACH;FMTTYPE=image/png:https://www.vso.org/wp-content/uploads/2022/03/BRASS-QUINTET-1-1.png
END:VEVENT
BEGIN:VEVENT
DTSTART;TZID=America/New_York:20221215T193000
DTEND;TZID=America/New_York:20221215T213000
DTSTAMP:20260425T123509
CREATED:20221006T145703Z
LAST-MODIFIED:20221115T165811Z
UID:10000148-1671132600-1671139800@www.vso.org
SUMMARY:Brass Quintet & Counterpoint at Warren United Church
DESCRIPTION:Get Tickets Here \nIn 2022\, one of our favorite annual holiday offerings tours to Woodstock\, Warren\, Newport\, Grafton\, and Manchester for programs of music and cheer. Each Brass Quintet & Counterpoint concert features a perfect blend of brass and voices alongside the premiere of a Music-COMP student composition. Don’t miss out on this seasonal treat\, conducted by Nathaniel G. Lew. \nTickets for this event are free\, but registration is required. \nProgram: \nDe Cormier\, arr.  – Joy to the World *\nSpeer –  Sonata from Die Bankelsängerlieder +\nPrice – Adoration +\nEnglish Folk Tune\, arr. Gale – What Child is This +\nRichard Price\, arr. – Sussex Carol +\nGwyneth Walker – The Christ-child’s Lullaby ^\nMolly Caffry – If Fire Danced with Fire ^\nSara Doncaster\, arr. – Apple Tree Wassail ^\nLili Boulanger\, arr. Nathaniel G. Lew – Psalm 24 * \nINTERMISSION \nBerlin – White Christmas *\nMichael John Trotta – Veni Emmanuel ^\nFoley – There is No Rose ^\nMarks\, arr. Frackenpohl – Rudolph +\nGuaraldi – Christmas Time is Here from “A Charlie Brown Christmas” +\nHague\, arr. Bjornes\, – You’re a Mean One\, Mr. Grinch +\nTraditional\, arr. Nathaniel G. Lew – Angels We Have Heard on High * \n+ Brass Quintet piece\n^ Counterpoint piece\n* Joint Brass Quintet & Counterpoint piece
URL:https://www.vso.org/vso-event/brass-quintet-counterpoint-at-warren-united-church/
LOCATION:Warren United Church\, 339 Main Street\, Warren\, VT\, 05674\, United States
CATEGORIES:Brass Quintet
ATTACH;FMTTYPE=image/png:https://www.vso.org/wp-content/uploads/2022/03/BRASS-QUINTET-1-1.png
END:VEVENT
BEGIN:VEVENT
DTSTART;TZID=America/New_York:20221216T193000
DTEND;TZID=America/New_York:20221216T213000
DTSTAMP:20260425T123509
CREATED:20221006T145945Z
LAST-MODIFIED:20221216T164433Z
UID:10000149-1671219000-1671226200@www.vso.org
SUMMARY:Brass Quintet & Counterpoint at the United Church of Newport
DESCRIPTION:PLEASE NOTE: Tonight’s concert in Newport has been cancelled due to bad weather. We will be refunding all ticket holders\, and apologize for the inconvenience.  \nIn 2022\, one of our favorite annual holiday offerings tours to Woodstock\, Warren\, Newport\, Grafton\, and Manchester for programs of music and cheer. Each Brass Quintet & Counterpoint concert features a perfect blend of brass and voices alongside the premiere of a Music-COMP student composition. In Newport we’ll welcome chorus members of the Lake Region Union High School as they join us in song! Don’t miss out on this seasonal treat\, conducted by Nathaniel G. Lew. \nProgram: \nDe Cormier\, arr.  – Joy to the World *\nSpeer –  Sonata from Die Bankelsängerlieder +\nPrice – Adoration +\nEnglish Folk Tune\, arr. Gale – What Child is This +\nRichard Price\, arr. – Sussex Carol +\nGwyneth Walker – The Christ-child’s Lullaby ^\nMolly Caffry – If Fire Danced with Fire ^\nSara Doncaster\, arr. – Apple Tree Wassail ^\nLili Boulanger\, arr. Nathaniel G. Lew – Psalm 24 * \nINTERMISSION \nBerlin – White Christmas *\nMichael John Trotta – Veni Emmanuel ^\nFoley – There is No Rose ^\nMarks\, arr. Frackenpohl – Rudolph +\nGuaraldi – Christmas Time is Here from “A Charlie Brown Christmas” +\nHague\, arr. Bjornes\, – You’re a Mean One\, Mr. Grinch +\nTraditional\, arr. Nathaniel G. Lew – Angels We Have Heard on High * \n+ Brass Quintet piece\n^ Counterpoint piece\n* Joint Brass Quintet & Counterpoint piece
URL:https://www.vso.org/vso-event/brass-quintet-counterpoint-at-the-united-church-of-newport/
LOCATION:United Church of Newport\, 63 3rd St\, Newport\, VT\, 05855\, United States
CATEGORIES:Brass Quintet
ATTACH;FMTTYPE=image/png:https://www.vso.org/wp-content/uploads/2022/03/BRASS-QUINTET-1-1.png
END:VEVENT
BEGIN:VEVENT
DTSTART;TZID=America/New_York:20221217T170000
DTEND;TZID=America/New_York:20221217T190000
DTSTAMP:20260425T123509
CREATED:20221006T150309Z
LAST-MODIFIED:20221217T171606Z
UID:10000150-1671296400-1671303600@www.vso.org
SUMMARY:Brass Quintet & Counterpoint at Grafton Elementary School
DESCRIPTION:NOTE: Due to a power outage at the Grafton Church\, the concert location has been moved to Grafton Elementary School.  \nIn 2022\, one of our favorite annual holiday offerings tours to Woodstock\, Warren\, Newport\, Grafton\, and Manchester for programs of music and cheer. Each Brass Quintet & Counterpoint concert features a perfect blend of brass and voices alongside the premiere of a Music-COMP student composition. Don’t miss out on this seasonal treat\, conducted by Nathaniel G. Lew. \nPlease note that masks are encouraged for this performance. \nFor tickets\, call Liisa Kissel at 802 843 2447\, and leave a message and a callback number. \nProgram: \nDe Cormier\, arr.  – Joy to the World *\nSpeer –  Sonata from Die Bankelsängerlieder +\nPrice – Adoration +\nEnglish Folk Tune\, arr. Gale – What Child is This +\nRichard Price\, arr. – Sussex Carol +\nGwyneth Walker – The Christ-child’s Lullaby ^\nMolly Caffry – If Fire Danced with Fire ^\nSara Doncaster\, arr. – Apple Tree Wassail ^\nLili Boulanger\, arr. Nathaniel G. Lew – Psalm 24 * \nINTERMISSION \nBerlin – White Christmas *\nMichael John Trotta – Veni Emmanuel ^\nFoley – There is No Rose ^\nMarks\, arr. Frackenpohl – Rudolph +\nGuaraldi – Christmas Time is Here from “A Charlie Brown Christmas” +\nHague\, arr. Bjornes\, – You’re a Mean One\, Mr. Grinch +\nTraditional\, arr. Nathaniel G. Lew – Angels We Have Heard on High * \n+ Brass Quintet piece\n^ Counterpoint piece\n* Joint Brass Quintet & Counterpoint piece
URL:https://www.vso.org/vso-event/brass-quintet-counterpoint-at-the-grafton-community-church/
LOCATION:Grafton Elementary School\, 58 School St\, Grafton
CATEGORIES:Brass Quintet
ATTACH;FMTTYPE=image/png:https://www.vso.org/wp-content/uploads/2022/03/BRASS-QUINTET-1-1.png
END:VEVENT
BEGIN:VEVENT
DTSTART;TZID=America/New_York:20221218T160000
DTEND;TZID=America/New_York:20221218T180000
DTSTAMP:20260425T123509
CREATED:20221006T150701Z
LAST-MODIFIED:20221104T132747Z
UID:10000151-1671379200-1671386400@www.vso.org
SUMMARY:Brass Quintet & Counterpoint at Manchester First Congregational Church
DESCRIPTION:Buy Tickets Here \nIn 2022\, one of our favorite annual holiday offerings tours to Woodstock\, Warren\, Newport\, Grafton\, and Manchester for programs of music and cheer. Each Brass Quintet & Counterpoint concert features a perfect blend of brass and voices alongside the premiere of a Music-COMP student composition. In Manchester we’ll welcome young guest vocalists from Burr and Burton Academy to join us in song! Don’t miss out on this seasonal treat\, conducted by Nathaniel G. Lew.
URL:https://www.vso.org/vso-event/brass-quintet-counterpoint-at-manchester-first-congregational-church/
LOCATION:Manchester First Congregational Church\, 3624 Main St\, Manchester\, VT\, 05254\, United States
CATEGORIES:Brass Quintet
ATTACH;FMTTYPE=image/png:https://www.vso.org/wp-content/uploads/2022/03/BRASS-QUINTET-1-1.png
END:VEVENT
END:VCALENDAR