BEGIN:VCALENDAR
VERSION:2.0
PRODID:-//Vermont Symphony Orchestra - ECPv6.15.17.1//NONSGML v1.0//EN
CALSCALE:GREGORIAN
METHOD:PUBLISH
X-WR-CALNAME:Vermont Symphony Orchestra
X-ORIGINAL-URL:https://www.vso.org
X-WR-CALDESC:Events for Vermont Symphony Orchestra
REFRESH-INTERVAL;VALUE=DURATION:PT1H
X-Robots-Tag:noindex
X-PUBLISHED-TTL:PT1H
BEGIN:VTIMEZONE
TZID:America/New_York
BEGIN:DAYLIGHT
TZOFFSETFROM:-0500
TZOFFSETTO:-0400
TZNAME:EDT
DTSTART:20230312T070000
END:DAYLIGHT
BEGIN:STANDARD
TZOFFSETFROM:-0400
TZOFFSETTO:-0500
TZNAME:EST
DTSTART:20231105T060000
END:STANDARD
BEGIN:DAYLIGHT
TZOFFSETFROM:-0500
TZOFFSETTO:-0400
TZNAME:EDT
DTSTART:20240310T070000
END:DAYLIGHT
BEGIN:STANDARD
TZOFFSETFROM:-0400
TZOFFSETTO:-0500
TZNAME:EST
DTSTART:20241103T060000
END:STANDARD
BEGIN:DAYLIGHT
TZOFFSETFROM:-0500
TZOFFSETTO:-0400
TZNAME:EDT
DTSTART:20250309T070000
END:DAYLIGHT
BEGIN:STANDARD
TZOFFSETFROM:-0400
TZOFFSETTO:-0500
TZNAME:EST
DTSTART:20251102T060000
END:STANDARD
END:VTIMEZONE
BEGIN:VEVENT
DTSTART;TZID=America/New_York:20241208T150000
DTEND;TZID=America/New_York:20241208T170000
DTSTAMP:20260424T042757
CREATED:20240501T124449Z
LAST-MODIFIED:20241022T192048Z
UID:10000228-1733670000-1733677200@www.vso.org
SUMMARY:Holiday Pops with the VSO Chorus - Rutland
DESCRIPTION:Buy Tickets \nEach December we celebrate the holidays with music both contemplative and joyful\, leaving audiences with a song in their heart and the warmth of the season. Our upcoming Holiday Pops concerts include the orchestra and VSO’s 80-voice chorus leading three sing-a-longs and performing much-loved music by John Rutter\, LeRoy Anderson\, and George Frederic Handel. A new-to-VSO composition by Quinn Mason\, Spanish-influenced holiday music\, and traditional carols round out this traditional family-favorite event. José Daniel Flores-Caraballo conducts. \n  \nPROGRAM \nTraditional (arr. Sebesky)   –    A Christmas Scherzo\nTraditional (arr. Willcocks)   –   Adeste Fideles\nGeorge Frideric Handel   –   And the Glory of the Lord (from Messiah)\nJohn Rutter   –   What Sweeter Music\nGeorges Bizet   –   Farandole from L’Arlésienne Suite No. 2\nRobert Shaw   –   The Many Moods of Christmas\, Suite 4 \nIntermission \nQuinn Mason   –   Christmas Eve Festivities\nMykola Leontovych (arr. Wilhousky)   –   Carol of the Bells\nJames Lord Pierpont (arr. Brandau)   –   Jingle Bells\, Wassail\nJohn Rutter   –   Esta Noche\nLeroy Anderson   –   Pastores a Belen\nIrving Berlin (arr. Huff/Moss)   –   White Christmas\nFrederic Austin (arr. Wilberg)   –   The Twelve Days of Christmas\nLeroy Anderson   –   Sleigh Ride \n  \nThe VSO is partnering with the Black River Good Neighbor Services this season! Bring a canned good with you to the Paramount Theatre on December 8\, and all donated items will be brought to the food shelf by the SouthWest Friends of VSO volunteers.
URL:https://www.vso.org/vso-event/holiday-pops-with-the-vso-chorus-rut/
LOCATION:Paramount Theatre\, 30 Center St\, Rutland\, VT\, 05701\, United States
CATEGORIES:Holiday
ATTACH;FMTTYPE=image/png:https://www.vso.org/wp-content/uploads/2024/04/hp2-1.png
END:VEVENT
END:VCALENDAR