BEGIN:VCALENDAR
VERSION:2.0
PRODID:-//Vermont Symphony Orchestra - ECPv6.15.17.1//NONSGML v1.0//EN
CALSCALE:GREGORIAN
METHOD:PUBLISH
X-ORIGINAL-URL:https://www.vso.org
X-WR-CALDESC:Events for Vermont Symphony Orchestra
REFRESH-INTERVAL;VALUE=DURATION:PT1H
X-Robots-Tag:noindex
X-PUBLISHED-TTL:PT1H
BEGIN:VTIMEZONE
TZID:America/New_York
BEGIN:DAYLIGHT
TZOFFSETFROM:-0500
TZOFFSETTO:-0400
TZNAME:EDT
DTSTART:20240310T070000
END:DAYLIGHT
BEGIN:STANDARD
TZOFFSETFROM:-0400
TZOFFSETTO:-0500
TZNAME:EST
DTSTART:20241103T060000
END:STANDARD
BEGIN:DAYLIGHT
TZOFFSETFROM:-0500
TZOFFSETTO:-0400
TZNAME:EDT
DTSTART:20250309T070000
END:DAYLIGHT
BEGIN:STANDARD
TZOFFSETFROM:-0400
TZOFFSETTO:-0500
TZNAME:EST
DTSTART:20251102T060000
END:STANDARD
BEGIN:DAYLIGHT
TZOFFSETFROM:-0500
TZOFFSETTO:-0400
TZNAME:EDT
DTSTART:20260308T070000
END:DAYLIGHT
BEGIN:STANDARD
TZOFFSETFROM:-0400
TZOFFSETTO:-0500
TZNAME:EST
DTSTART:20261101T060000
END:STANDARD
END:VTIMEZONE
BEGIN:VEVENT
DTSTART;TZID=America/New_York:20250705T193000
DTEND;TZID=America/New_York:20250705T213000
DTSTAMP:20260421T115200
CREATED:20250401T142308Z
LAST-MODIFIED:20250705T143912Z
UID:10000280-1751743800-1751751000@www.vso.org
SUMMARY:Summer Festival Tour 2025: East Burke
DESCRIPTION:Tonight’s concert will be OUTDOORS.\nTickets will be available at the gate starting at 5:30pm. \n  \nCome feel the love with the Vermont Symphony Orchestra as we embark on our 2025 Summer Festival Tour. This year’s dynamic program\, Summer of Love\, features works from across the world and a range of genres\, including pieces from Tchaikovsky’s Romeo and Juliet\, John Williams’ Star Wars Theme\, Leonard Bernstein’s West Side Story\, and pop hits such as “I Put A Spell On You” and “Nature Boy.” This summer the VSO welcomes mezzo Nikola Printz as the tour’s special guest vocalist.  \nAn annual VSO tradition\, the Summer Festival Tour celebrates music\, community\, and the summer season. This year’s tour will take place from July 1-6\, 2025 in the following locations: Castleton\, Grafton\, East Burke\, South Pomfret\, Shelburne\, and Stowe. All locations will include VSO’s Musical Petting Zoo where the audience can explore a variety of orchestral instruments\, available before the performances\, and Burke’s concert features fireworks at the close of the program. \nEVENT DETAILS & THINGS TO KNOW\nBurke Mountain Ski Resort\n2559 Mountain Rd\, East Burke\, VT 05832\nFor accessibility information at Burke Mountain\, please contact (802) 626-7300 \nGates open at 5:30 pm for picnicking\nConcert begins at 7:30 pm with fireworks after the show (only if outdoors) \nAdvance Ticket Prices:\nAdults: $33\nAges 6-17: $5\n5 and under: Free \nGate Prices:\nAdults: $40\nAges 6-17: $5\n5 and under: Free \nRain site: Lyndon Institute\, 168 Institute Cir\, Lyndon Center\, VT 05850 \nWe encourage you to bring:\n– A picnic blanket or folding chairs\n– Sunscreen & sunglasses\n– Insect repellant\n– Water\n– Whatever you need to comfortably enjoy the outdoors \nPlease note: Outside alcohol is not permitted at this event. There will be beverages available for sale on site. \nSun umbrellas are welcome until the start of the concert. Flashlights are also suggested to help you find your way to your car after the sun has set. Smoking and animals (except assistance and service animals) are not allowed at any VSO show. \n  \nPROGRAM \nAndrew Crust\, conductor\nNikola Printz\, vocals \nFrances Scott Key – The Star-Spangled Banner\nLeonard Bernstein/Mason – West Side Story Selections\nFranz Lehár– Meine Lippen sie küssen so heiß\nGeorges Bizet – Habanera from “Carmen”\nPiotr Ilyich Tchaikovsky – Romeo and Juliet Fantasy Overture \nINTERMISSION \nLalo Schifrin – Tango de Atardecer\nJohn Williams – Across the Stars Love Theme from Star Wars Episode II\nHeitor Villa-Lobos/Krance – Bachianas Brasileiras No. 5\nNat King Cole/De Vol – Nature Boy\nNina Simone/McKenzie – I Put a Spell on You\nJohn Philip Sousa – Our Flirtation\nJohn Philip Sousa – Stars and Stripes Forever \nThis concert is generously supported by AARP Vermont\, Passumpsic Bank\, and generous individual donors. \n\n \nThis concert is produced in partnership with Burke Mountain Resort.
URL:https://www.vso.org/vso-event/summer-festival-tour-2025-burke/
LOCATION:Burke Mountain Ski Resort\, 2559 Mountain Road\, East Burke\, VT\, 05832\, United States
CATEGORIES:Summer Festival Tour
ATTACH;FMTTYPE=image/png:https://www.vso.org/wp-content/uploads/2025/04/Untitled-26.png
END:VEVENT
END:VCALENDAR