BEGIN:VCALENDAR
VERSION:2.0
PRODID:-//Vermont Symphony Orchestra - ECPv6.15.17.1//NONSGML v1.0//EN
CALSCALE:GREGORIAN
METHOD:PUBLISH
X-ORIGINAL-URL:https://www.vso.org
X-WR-CALDESC:Events for Vermont Symphony Orchestra
REFRESH-INTERVAL;VALUE=DURATION:PT1H
X-Robots-Tag:noindex
X-PUBLISHED-TTL:PT1H
BEGIN:VTIMEZONE
TZID:America/New_York
BEGIN:DAYLIGHT
TZOFFSETFROM:-0500
TZOFFSETTO:-0400
TZNAME:EDT
DTSTART:20250309T070000
END:DAYLIGHT
BEGIN:STANDARD
TZOFFSETFROM:-0400
TZOFFSETTO:-0500
TZNAME:EST
DTSTART:20251102T060000
END:STANDARD
BEGIN:DAYLIGHT
TZOFFSETFROM:-0500
TZOFFSETTO:-0400
TZNAME:EDT
DTSTART:20260308T070000
END:DAYLIGHT
BEGIN:STANDARD
TZOFFSETFROM:-0400
TZOFFSETTO:-0500
TZNAME:EST
DTSTART:20261101T060000
END:STANDARD
BEGIN:DAYLIGHT
TZOFFSETFROM:-0500
TZOFFSETTO:-0400
TZNAME:EDT
DTSTART:20270314T070000
END:DAYLIGHT
BEGIN:STANDARD
TZOFFSETFROM:-0400
TZOFFSETTO:-0500
TZNAME:EST
DTSTART:20271107T060000
END:STANDARD
END:VTIMEZONE
BEGIN:VEVENT
DTSTART;TZID=America/New_York:20261210T190000
DTEND;TZID=America/New_York:20261210T210000
DTSTAMP:20260421T164050
CREATED:20260420T151219Z
LAST-MODIFIED:20260420T151219Z
UID:10000369-1796929200-1796936400@www.vso.org
SUMMARY:Brass Quintet & Counterpoint Chorus - Warren
DESCRIPTION:The holiday season continues with the Brass Quintet & Counterpoint Chorus tour December 10–13\, bringing intimate chamber performances to Warren\, Newport\, Grafton\, and Manchester\, with young singers from Burr & Burton Academy joining the performance in Manchester. VSO’s brass musicians will premiere a new work by a Vermont student via its partnership with Music-COMP. Conducted by Nathaniel G. Lew. \nTickets are free of charge\, but advance registration is required. Ticket registration will go live in late fall 2026.  \n  \nVSO thanks the generous individuals and Warren Arts Commission for support of this concert.
URL:https://www.vso.org/vso-event/brass-quintet-counterpoint-chorus-warren-2/
LOCATION:Warren United Church\, 339 Main Street\, Warren\, VT\, 05674\, United States
CATEGORIES:Brass Quintet
ATTACH;FMTTYPE=image/jpeg:https://www.vso.org/wp-content/uploads/2026/04/BQ-Newport-Dec-2024-group-photo-in-performance-scaled.jpeg
END:VEVENT
BEGIN:VEVENT
DTSTART;TZID=America/New_York:20261211T190000
DTEND;TZID=America/New_York:20261211T210000
DTSTAMP:20260421T164050
CREATED:20260420T151314Z
LAST-MODIFIED:20260420T151314Z
UID:10000370-1797015600-1797022800@www.vso.org
SUMMARY:Brass Quintet & Counterpoint Chorus - Newport
DESCRIPTION:The holiday season continues with the Brass Quintet & Counterpoint Chorus tour December 10–13\, bringing intimate chamber performances to Warren\, Newport\, Grafton\, and Manchester\, with young singers from Burr & Burton Academy joining the performance in Manchester. VSO’s brass musicians will premiere a new work by a Vermont student via its partnership with Music-COMP. Conducted by Nathaniel G. Lew. \nTickets will go on sale in fall 2026.  \n 
URL:https://www.vso.org/vso-event/brass-quintet-counterpoint-chorus-newport-2/
LOCATION:United Church of Newport\, 63 3rd St\, Newport\, VT\, 05855\, United States
CATEGORIES:Brass Quintet
ATTACH;FMTTYPE=image/jpeg:https://www.vso.org/wp-content/uploads/2026/04/BQ-Newport-Dec-2024-group-photo-in-performance-scaled.jpeg
END:VEVENT
BEGIN:VEVENT
DTSTART;TZID=America/New_York:20261212T170000
DTEND;TZID=America/New_York:20261212T190000
DTSTAMP:20260421T164050
CREATED:20260420T151422Z
LAST-MODIFIED:20260420T151422Z
UID:10000371-1797094800-1797102000@www.vso.org
SUMMARY:Brass Quintet & Counterpoint Chorus - Grafton
DESCRIPTION:The holiday season continues with the Brass Quintet & Counterpoint Chorus tour December 10–13\, bringing intimate chamber performances to Warren\, Newport\, Grafton\, and Manchester\, with young singers from Burr & Burton Academy joining the performance in Manchester. VSO’s brass musicians will premiere a new work by a Vermont student via its partnership with Music-COMP. Conducted by Nathaniel G. Lew. \nThis performance is free\, with advance registration required. Tickets will become available in late fall 2026.  \n 
URL:https://www.vso.org/vso-event/brass-quintet-counterpoint-chorus-grafton-2/
LOCATION:Grafton Community Church\, 55 Main Street\, Grafton\, VT\, 05146\, United States
CATEGORIES:Brass Quintet
ATTACH;FMTTYPE=image/jpeg:https://www.vso.org/wp-content/uploads/2026/04/BQ-Newport-Dec-2024-group-photo-in-performance-scaled.jpeg
END:VEVENT
BEGIN:VEVENT
DTSTART;TZID=America/New_York:20261213T160000
DTEND;TZID=America/New_York:20261213T170000
DTSTAMP:20260421T164050
CREATED:20260420T151519Z
LAST-MODIFIED:20260420T151519Z
UID:10000372-1797177600-1797181200@www.vso.org
SUMMARY:Brass Quintet & Counterpoint Chorus - Manchester
DESCRIPTION:The holiday season continues with the Brass Quintet & Counterpoint Chorus tour December 10–13\, bringing intimate chamber performances to Warren\, Newport\, Grafton\, and Manchester\, with young singers from Burr & Burton Academy joining the performance in Manchester. VSO’s brass musicians will premiere a new work by a Vermont student via its partnership with Music-COMP. Conducted by Nathaniel G. Lew. \nTickets will become available in fall 2026.  \n 
URL:https://www.vso.org/vso-event/brass-quintet-counterpoint-chorus-manchester-2/
LOCATION:Manchester First Congregational Church\, 3624 Main St\, Manchester\, VT\, 05254\, United States
CATEGORIES:Brass Quintet
ATTACH;FMTTYPE=image/jpeg:https://www.vso.org/wp-content/uploads/2026/04/BQ-Newport-Dec-2024-group-photo-in-performance-scaled.jpeg
END:VEVENT
END:VCALENDAR