BEGIN:VCALENDAR
VERSION:2.0
PRODID:-//Vermont Symphony Orchestra - ECPv6.15.17.1//NONSGML v1.0//EN
CALSCALE:GREGORIAN
METHOD:PUBLISH
X-WR-CALNAME:Vermont Symphony Orchestra
X-ORIGINAL-URL:https://www.vso.org
X-WR-CALDESC:Events for Vermont Symphony Orchestra
REFRESH-INTERVAL;VALUE=DURATION:PT1H
X-Robots-Tag:noindex
X-PUBLISHED-TTL:PT1H
BEGIN:VTIMEZONE
TZID:America/New_York
BEGIN:DAYLIGHT
TZOFFSETFROM:-0500
TZOFFSETTO:-0400
TZNAME:EDT
DTSTART:20240310T070000
END:DAYLIGHT
BEGIN:STANDARD
TZOFFSETFROM:-0400
TZOFFSETTO:-0500
TZNAME:EST
DTSTART:20241103T060000
END:STANDARD
BEGIN:DAYLIGHT
TZOFFSETFROM:-0500
TZOFFSETTO:-0400
TZNAME:EDT
DTSTART:20250309T070000
END:DAYLIGHT
BEGIN:STANDARD
TZOFFSETFROM:-0400
TZOFFSETTO:-0500
TZNAME:EST
DTSTART:20251102T060000
END:STANDARD
BEGIN:DAYLIGHT
TZOFFSETFROM:-0500
TZOFFSETTO:-0400
TZNAME:EDT
DTSTART:20260308T070000
END:DAYLIGHT
BEGIN:STANDARD
TZOFFSETFROM:-0400
TZOFFSETTO:-0500
TZNAME:EST
DTSTART:20261101T060000
END:STANDARD
END:VTIMEZONE
BEGIN:VEVENT
DTSTART;TZID=America/New_York:20251205T193000
DTEND;TZID=America/New_York:20251205T213000
DTSTAMP:20260423T114749
CREATED:20250513T142133Z
LAST-MODIFIED:20251203T143739Z
UID:10000290-1764963000-1764970200@www.vso.org
SUMMARY:Holiday Pops - Barre
DESCRIPTION:Buy Tickets \nCelebrate December with festive music and join Music Director Andrew Crust\, guest singers\, and your Vermont Symphony Orchestra for a concert that delivers a joyful mood for the season. Enjoy favorites like Sleigh Ride and selections from The Nutcracker\, a new commission by Vermont composer Michael Schachter inspired by a Jewish folktale\, a rousing audience holiday sing-a-long\, a musical reading of selections from Charles Dickens’ A Christmas Carol\, and more!  \nAndrew Crust\, VSO Music Director \nM. T. Anderson and Marty Fogel\, narrators \nOpera Company of Middlebury Children’s Chorus: Uliana Alekhin\, Matilda (Till) Boyce\, Piper Donlon\, Harley Everitt\, Adelynn Leonard. Rachel Weinfeld\, Director \n  \nPROGRAM \nSamuel Coleridge-Taylor – Christmas Overture\n \nTrad/arr. Hayman – Carol of the Bells\n \nA reading by M. T. Anderson of excerpts from Charles Dickens’ A Christmas Carol\, with musical selections from: \n\nKelly-Marie Murphy – Huron Carol Interlude\n\nRalph Vaughan Williams – Fantasia on Greensleeves\n\nPeter Warlock – Pied-en-l’air and Pavane from “Capriol Suite”\n\nHoward Blake – Walking in the Air\n\nSergei Prokofiev – Lieutenant Kijé\, op. 60: Troika\n\n\nDelvyn Case – Rocket Sleigh\n \nArr. Sheldon – A Most Wonderful Christmas \nIntermission \nPeter Ilyich Tchaikovsky – Excerpts from The Nutcracker Suite\n \nTraditional/Rutter – The Twelve Days of (Vermont) Christmas\n \nArr. John Finnegan – Christmas Sing-a-Long\n \nMichael Schachter – The First Snow of Chelm (World Premiere)\, including narration by Marty Fogel\n \nLeroy Anderson – Sleigh Ride \n  \nThe VSO is partnering with the Hedding United Methodist Church Food Shelf this season! Bring a canned good with you to the Barre Opera House on December 5\, and all donated items will be brought to the food shelf by Bellows Falls Opera House volunteers. \nWe are thankful for the Natalie Lisman Fund (held at Maple Capital Management) for supporting guest soloists in this concert\, who have ties to Vermont\, and to sponsorship from AARP and Mascoma Bank.
URL:https://www.vso.org/vso-event/holiday-pops-barre/
LOCATION:Barre Opera House\, 6 North Main St\, Barre\, VT\, 05641\, United States
CATEGORIES:Holiday,Barre
ATTACH;FMTTYPE=image/png:https://www.vso.org/wp-content/uploads/2025/05/pops1920x1080.png
END:VEVENT
END:VCALENDAR