BEGIN:VCALENDAR
VERSION:2.0
PRODID:-//Vermont Symphony Orchestra - ECPv6.15.17.1//NONSGML v1.0//EN
CALSCALE:GREGORIAN
METHOD:PUBLISH
X-WR-CALNAME:Vermont Symphony Orchestra
X-ORIGINAL-URL:https://www.vso.org
X-WR-CALDESC:Events for Vermont Symphony Orchestra
REFRESH-INTERVAL;VALUE=DURATION:PT1H
X-Robots-Tag:noindex
X-PUBLISHED-TTL:PT1H
BEGIN:VTIMEZONE
TZID:America/New_York
BEGIN:DAYLIGHT
TZOFFSETFROM:-0500
TZOFFSETTO:-0400
TZNAME:EDT
DTSTART:20210314T070000
END:DAYLIGHT
BEGIN:STANDARD
TZOFFSETFROM:-0400
TZOFFSETTO:-0500
TZNAME:EST
DTSTART:20211107T060000
END:STANDARD
BEGIN:DAYLIGHT
TZOFFSETFROM:-0500
TZOFFSETTO:-0400
TZNAME:EDT
DTSTART:20220313T070000
END:DAYLIGHT
BEGIN:STANDARD
TZOFFSETFROM:-0400
TZOFFSETTO:-0500
TZNAME:EST
DTSTART:20221106T060000
END:STANDARD
BEGIN:DAYLIGHT
TZOFFSETFROM:-0500
TZOFFSETTO:-0400
TZNAME:EDT
DTSTART:20230312T070000
END:DAYLIGHT
BEGIN:STANDARD
TZOFFSETFROM:-0400
TZOFFSETTO:-0500
TZNAME:EST
DTSTART:20231105T060000
END:STANDARD
BEGIN:DAYLIGHT
TZOFFSETFROM:-0500
TZOFFSETTO:-0400
TZNAME:EDT
DTSTART:20240310T070000
END:DAYLIGHT
BEGIN:STANDARD
TZOFFSETFROM:-0400
TZOFFSETTO:-0500
TZNAME:EST
DTSTART:20241103T060000
END:STANDARD
BEGIN:DAYLIGHT
TZOFFSETFROM:-0500
TZOFFSETTO:-0400
TZNAME:EDT
DTSTART:20250309T070000
END:DAYLIGHT
BEGIN:STANDARD
TZOFFSETFROM:-0400
TZOFFSETTO:-0500
TZNAME:EST
DTSTART:20251102T060000
END:STANDARD
END:VTIMEZONE
BEGIN:VEVENT
DTSTART;TZID=America/New_York:20240411T111500
DTEND;TZID=America/New_York:20240411T120000
DTSTAMP:20260422T233227
CREATED:20240517T120332Z
LAST-MODIFIED:20240517T120332Z
UID:10000244-1712834100-1712836800@www.vso.org
SUMMARY:Young Composers - Middlebury High School
DESCRIPTION:
URL:https://www.vso.org/vso-event/young-composers-middlebury-high-school/2024-04-11/2/
CATEGORIES:Education
END:VEVENT
BEGIN:VEVENT
DTSTART;TZID=America/New_York:20240411T080000
DTEND;TZID=America/New_York:20240411T170000
DTSTAMP:20260422T233227
CREATED:20240517T120332Z
LAST-MODIFIED:20240517T120332Z
UID:10000243-1712822400-1712854800@www.vso.org
SUMMARY:Young Composers - Middlebury High School
DESCRIPTION:
URL:https://www.vso.org/vso-event/young-composers-middlebury-high-school/2024-04-11/1/
CATEGORIES:Education
END:VEVENT
BEGIN:VEVENT
DTSTART;TZID=America/New_York:20240320T080000
DTEND;TZID=America/New_York:20240320T170000
DTSTAMP:20260422T233227
CREATED:20240304T183242Z
LAST-MODIFIED:20240304T183242Z
UID:10000209-1710921600-1710954000@www.vso.org
SUMMARY:Musicians-in-Schools - Newport
DESCRIPTION:This event is not open to the public.
URL:https://www.vso.org/vso-event/musicians-in-schools-newport/
CATEGORIES:Education
END:VEVENT
BEGIN:VEVENT
DTSTART;TZID=America/New_York:20240306T080000
DTEND;TZID=America/New_York:20240306T170000
DTSTAMP:20260422T233227
CREATED:20240304T183128Z
LAST-MODIFIED:20240304T183308Z
UID:10000208-1709712000-1709744400@www.vso.org
SUMMARY:Musicians-in-Schools - Cavendish
DESCRIPTION:This event is not open to the public.
URL:https://www.vso.org/vso-event/musicians-in-schools-cavendish/
CATEGORIES:Education
END:VEVENT
BEGIN:VEVENT
DTSTART;TZID=America/New_York:20240306T080000
DTEND;TZID=America/New_York:20240306T170000
DTSTAMP:20260422T233227
CREATED:20240304T183039Z
LAST-MODIFIED:20240304T183039Z
UID:10000207-1709712000-1709744400@www.vso.org
SUMMARY:Musicians-in-Schools - Ludlow
DESCRIPTION:This event is not open to the public.
URL:https://www.vso.org/vso-event/musicians-in-schools-ludlow/
CATEGORIES:Education
END:VEVENT
BEGIN:VEVENT
DTSTART;TZID=America/New_York:20240306T080000
DTEND;TZID=America/New_York:20240306T170000
DTSTAMP:20260422T233227
CREATED:20240304T182955Z
LAST-MODIFIED:20240304T182955Z
UID:10000206-1709712000-1709744400@www.vso.org
SUMMARY:Musicians-in-Schools - Mt. Holly
DESCRIPTION:This event is not open to the public.
URL:https://www.vso.org/vso-event/musicians-in-schools-mt-holly/
CATEGORIES:Education
END:VEVENT
BEGIN:VEVENT
DTSTART;TZID=America/New_York:20240228T140000
DTEND;TZID=America/New_York:20240228T150000
DTSTAMP:20260422T233227
CREATED:20240102T152133Z
LAST-MODIFIED:20240107T190431Z
UID:10000202-1709128800-1709132400@www.vso.org
SUMMARY:VSO and OLLI - VSO Offstage: The Hollywood Sound
DESCRIPTION:VSO Offstage: The Hollywood Sound \nWith Katherine Winterstein \nWednesday\, February 28\, 2024\, 2-3 pm \nDescription: Join us for this online lecture with violinist Katherine Winterstein as she discusses the crossover between classical music and film scores.  This talk will focus on Erich Korngold’s Violin Concerto\, which includes themes from several films from the golden age of Hollywood. Winterstein will explore the concerto in depth as she prepares for her performance as guest soloist with the Vermont Symphony Orchestra on March 2 at the Flynn (Burlington) and March 3 at the Paramount Theatre (Rutland). \nLocation: online. \nClick here to learn more about the University of Vermont’s OLLI program and to register for this online event.
URL:https://www.vso.org/vso-event/vso-and-olli-vso-offstage-the-hollywood-sound/
CATEGORIES:Education
END:VEVENT
BEGIN:VEVENT
DTSTART;TZID=America/New_York:20240216T080000
DTEND;TZID=America/New_York:20240216T170000
DTSTAMP:20260422T233227
CREATED:20240123T152536Z
LAST-MODIFIED:20240216T121653Z
UID:10000203-1708070400-1708102800@www.vso.org
SUMMARY:Musicians-in-Schools - Sheffield - Postponed
DESCRIPTION:This event is not open to the public.
URL:https://www.vso.org/vso-event/musicians-in-schools-sheffield/
CATEGORIES:Education
END:VEVENT
BEGIN:VEVENT
DTSTART;TZID=America/New_York:20231117T080000
DTEND;TZID=America/New_York:20231117T170000
DTSTAMP:20260422T233227
CREATED:20231031T172315Z
LAST-MODIFIED:20231031T172315Z
UID:10000200-1700208000-1700240400@www.vso.org
SUMMARY:Musicians-in-Schools - Burlington
DESCRIPTION:This event is not open to the public.
URL:https://www.vso.org/vso-event/musicians-in-schools-burlington/
CATEGORIES:Education
END:VEVENT
BEGIN:VEVENT
DTSTART;TZID=America/New_York:20231108T080000
DTEND;TZID=America/New_York:20231108T150000
DTSTAMP:20260422T233227
CREATED:20231031T172228Z
LAST-MODIFIED:20231031T172228Z
UID:10000199-1699430400-1699455600@www.vso.org
SUMMARY:Musicians-in-Schools - Grand Isle and North Hero
DESCRIPTION:This event is not open to the public.
URL:https://www.vso.org/vso-event/musicians-in-schools-grand-isle-and-north-hero/
CATEGORIES:Education
END:VEVENT
BEGIN:VEVENT
DTSTART;TZID=America/New_York:20230508T120000
DTEND;TZID=America/New_York:20230508T130000
DTSTAMP:20260422T233227
CREATED:20230309T172343Z
LAST-MODIFIED:20230401T003256Z
UID:10000175-1683547200-1683550800@www.vso.org
SUMMARY:Musicians-in-Schools - Weybridge Elementary\, Salisbury Community School\, and Ripton Elementary.
DESCRIPTION:This event is not open to the public.
URL:https://www.vso.org/vso-event/musicians-in-schools-cornwall/
CATEGORIES:Education
END:VEVENT
BEGIN:VEVENT
DTSTART;TZID=America/New_York:20230504T163000
DTEND;TZID=America/New_York:20230504T173000
DTSTAMP:20260422T233227
CREATED:20230405T160925Z
LAST-MODIFIED:20230502T132338Z
UID:10000112-1683217800-1683221400@www.vso.org
SUMMARY:Bella Hristova Masterclass
DESCRIPTION:RESERVE TICKETS HERE \nJoin VSO guest violin soloist Bella Hristova to attend a free masterclass on Thursday\, May 4 at 4:30 p.m.\, where three young\, aspiring violin students from South Burlington\, Essex\, and Williston play and receive instruction on musical techniques and performance. Hristova will perform David Ludwig’s Saturn Bells and Bruch’s Scottish Fantasy with the Vermont Symphony Orchestra on May 6 at the Flynn in Burlington\, under the direction of conductor Jaime Laredo. This masterclass is presented in partnership with Lake Champlain Chamber Music Festival (lccmf.org)\, and takes place at the South Burlington Public Library Auditorium at 180 Market St. South Burlington. \nClick here to learn more. This event is free; advance registration via Eventbrite is required. \nThis educational event is generously sponsored by: \nM&T Bank\, Pat Robins and Lisa Schamberg\, the Doolittle Family Foundation\, the South Burlington Rotary Club and the George W. Mergens Foundation.
URL:https://www.vso.org/vso-event/bella-hristova-masterclass/
LOCATION:South Burlington Public Library Auditorium\, 180 Market St.\, South Burlington\, VT\, United States
CATEGORIES:Education
ATTACH;FMTTYPE=image/png:https://www.vso.org/wp-content/uploads/2023/04/Bella-Hristova-Masterclass-1.png
END:VEVENT
BEGIN:VEVENT
DTSTART;TZID=America/New_York:20230317T110000
DTEND;TZID=America/New_York:20230317T120000
DTSTAMP:20260422T233227
CREATED:20230309T171344Z
LAST-MODIFIED:20230309T171344Z
UID:10000174-1679050800-1679054400@www.vso.org
SUMMARY:Musicians-in-Schools - Bridport
DESCRIPTION:This event is not open to the public.
URL:https://www.vso.org/vso-event/musicians-in-schools-bridport/
CATEGORIES:Education
END:VEVENT
BEGIN:VEVENT
DTSTART;TZID=America/New_York:20230317T093000
DTEND;TZID=America/New_York:20230317T223000
DTSTAMP:20260422T233227
CREATED:20230309T171252Z
LAST-MODIFIED:20230309T171252Z
UID:10000173-1679045400-1679092200@www.vso.org
SUMMARY:Musicians-in-Schools - Shoreham
DESCRIPTION:This event is not open to the public.
URL:https://www.vso.org/vso-event/musicians-in-schools-shoreham/
CATEGORIES:Education
END:VEVENT
BEGIN:VEVENT
DTSTART;TZID=America/New_York:20230217T190000
DTEND;TZID=America/New_York:20230217T200000
DTSTAMP:20260422T233227
CREATED:20230207T154141Z
LAST-MODIFIED:20230209T144515Z
UID:10000172-1676660400-1676664000@www.vso.org
SUMMARY:Young Composers
DESCRIPTION:VSO musicians perform final drafts of student compositions written for brass quintet. Students have been coached by Vermont composer Kyle Saulnier.  This concert is the conclusion of VSO’s Young Composers residency at Bellows Falls Union High School\, in collaboration with Music-COMP\, and hosted by BFUHS music teacher Nick Pelton. \nThis concert is free and open to the public\, no tickets required\, at Bellows Falls Union High School.
URL:https://www.vso.org/vso-event/young-composers/
LOCATION:Bellows Falls Union High School\, 406 High School Rd\, Westminster\, VT\, 05158\, United States
CATEGORIES:Education
END:VEVENT
BEGIN:VEVENT
DTSTART;TZID=America/New_York:20230202T133000
DTEND;TZID=America/New_York:20230202T150000
DTSTAMP:20260422T233227
CREATED:20221025T131323Z
LAST-MODIFIED:20230131T142325Z
UID:10000166-1675344600-1675350000@www.vso.org
SUMMARY:Strings Workshop
DESCRIPTION:Educational electric strings workshop with Matt LaRocca and Tracy Silverman. \nContact VSO Education Coordinator Hannah Hansen at hannah@vso.org for questions about this event.
URL:https://www.vso.org/vso-event/strings-workshop/
LOCATION:U-32 School\, 930 Gallison Hill Rd\, Montpelier\, VT\, 05602\, United States
CATEGORIES:Education
END:VEVENT
BEGIN:VEVENT
DTSTART;TZID=America/New_York:20221208T134500
DTEND;TZID=America/New_York:20221208T144500
DTSTAMP:20260422T233227
CREATED:20221025T131113Z
LAST-MODIFIED:20221203T205002Z
UID:10000164-1670507100-1670510700@www.vso.org
SUMMARY:Musicians-in-Schools\, Coventry VT
DESCRIPTION:This event is not open to the public.
URL:https://www.vso.org/vso-event/musicians-in-schools-greensboro/
CATEGORIES:Education
END:VEVENT
BEGIN:VEVENT
DTSTART;TZID=America/New_York:20221208T100000
DTEND;TZID=America/New_York:20221208T110000
DTSTAMP:20260422T233227
CREATED:20221025T131203Z
LAST-MODIFIED:20221203T204740Z
UID:10000165-1670493600-1670497200@www.vso.org
SUMMARY:Musicians-in-Schools\, North Troy
DESCRIPTION:This event is not open to the public.
URL:https://www.vso.org/vso-event/musicians-in-schools-glover/
CATEGORIES:Education
END:VEVENT
BEGIN:VEVENT
DTSTART;VALUE=DATE:20221116
DTEND;VALUE=DATE:20221117
DTSTAMP:20260422T233227
CREATED:20221025T131624Z
LAST-MODIFIED:20221025T131624Z
UID:10000169-1668556800-1668643199@www.vso.org
SUMMARY:Musicians-in-Schools\, Putney
DESCRIPTION:This event is not open to the public.
URL:https://www.vso.org/vso-event/musicians-in-schools-putney/
CATEGORIES:Education
END:VEVENT
BEGIN:VEVENT
DTSTART;VALUE=DATE:20221116
DTEND;VALUE=DATE:20221117
DTSTAMP:20260422T233227
CREATED:20221025T131544Z
LAST-MODIFIED:20221025T131544Z
UID:10000168-1668556800-1668643199@www.vso.org
SUMMARY:Musicians-in-Schools\, Brattleboro
DESCRIPTION:This event is not open to the public.
URL:https://www.vso.org/vso-event/musicians-in-schools-brattleboro/
CATEGORIES:Education
END:VEVENT
BEGIN:VEVENT
DTSTART;VALUE=DATE:20221116
DTEND;VALUE=DATE:20221117
DTSTAMP:20260422T233227
CREATED:20221025T131500Z
LAST-MODIFIED:20221025T131500Z
UID:10000167-1668556800-1668643199@www.vso.org
SUMMARY:Musicians-in-Schools\, Guilford
DESCRIPTION:This event is not open to the public.
URL:https://www.vso.org/vso-event/musicians-in-schools-guilford/
CATEGORIES:Education
END:VEVENT
BEGIN:VEVENT
DTSTART;VALUE=DATE:20221109
DTEND;VALUE=DATE:20221110
DTSTAMP:20260422T233227
CREATED:20221025T131023Z
LAST-MODIFIED:20221025T131023Z
UID:10000163-1667952000-1668038399@www.vso.org
SUMMARY:Musicians-in-Schools\, Swanton
DESCRIPTION:This event is not open to the public.
URL:https://www.vso.org/vso-event/musicians-in-schools-swanton/
CATEGORIES:Education
END:VEVENT
BEGIN:VEVENT
DTSTART;TZID=America/New_York:20221028T170000
DTEND;TZID=America/New_York:20221028T183000
DTSTAMP:20260422T233227
CREATED:20221025T130902Z
LAST-MODIFIED:20221025T130902Z
UID:10000162-1666976400-1666981800@www.vso.org
SUMMARY:MasterClef Showcase and Workshop
DESCRIPTION:The masterclass in music composition will take place on October 28\, 2022 from 5:00 p.m. to 6:30 p.m. at Contois Auditorium in Burlington with composer Dr. Matthew Evan Taylor and a panel of respondents. The masterclass will be open to the public and may be recorded; no advance registrations are required. The first-place winning composition and runners up will be announced at this event. All young musician finalists (and their accompanying adults\, if any) will be provided with tickets to the VSO concert at the Flynn on October 29 at 7:30 p.m.  \nFor more details on the MasterClef competition\, click here.
URL:https://www.vso.org/vso-event/masterclef-showcase-and-workshop/
LOCATION:Contois Auditorium\, 149 City Hall\, 2nd Floor\, Burlington\, VT\, 05401\, United States
CATEGORIES:Education
END:VEVENT
END:VCALENDAR