BEGIN:VCALENDAR
VERSION:2.0
PRODID:-//Vermont Symphony Orchestra - ECPv6.15.17.1//NONSGML v1.0//EN
CALSCALE:GREGORIAN
METHOD:PUBLISH
X-ORIGINAL-URL:http://www.vso.org
X-WR-CALDESC:Events for Vermont Symphony Orchestra
REFRESH-INTERVAL;VALUE=DURATION:PT1H
X-Robots-Tag:noindex
X-PUBLISHED-TTL:PT1H
BEGIN:VTIMEZONE
TZID:America/New_York
BEGIN:DAYLIGHT
TZOFFSETFROM:-0500
TZOFFSETTO:-0400
TZNAME:EDT
DTSTART:20220313T070000
END:DAYLIGHT
BEGIN:STANDARD
TZOFFSETFROM:-0400
TZOFFSETTO:-0500
TZNAME:EST
DTSTART:20221106T060000
END:STANDARD
BEGIN:DAYLIGHT
TZOFFSETFROM:-0500
TZOFFSETTO:-0400
TZNAME:EDT
DTSTART:20230312T070000
END:DAYLIGHT
BEGIN:STANDARD
TZOFFSETFROM:-0400
TZOFFSETTO:-0500
TZNAME:EST
DTSTART:20231105T060000
END:STANDARD
BEGIN:DAYLIGHT
TZOFFSETFROM:-0500
TZOFFSETTO:-0400
TZNAME:EDT
DTSTART:20240310T070000
END:DAYLIGHT
BEGIN:STANDARD
TZOFFSETFROM:-0400
TZOFFSETTO:-0500
TZNAME:EST
DTSTART:20241103T060000
END:STANDARD
BEGIN:DAYLIGHT
TZOFFSETFROM:-0500
TZOFFSETTO:-0400
TZNAME:EDT
DTSTART:20250309T070000
END:DAYLIGHT
BEGIN:STANDARD
TZOFFSETFROM:-0400
TZOFFSETTO:-0500
TZNAME:EST
DTSTART:20251102T060000
END:STANDARD
END:VTIMEZONE
BEGIN:VEVENT
DTSTART;TZID=America/New_York:20240412T190000
DTEND;TZID=America/New_York:20240412T200000
DTSTAMP:20260425T204814
CREATED:20240219T190519Z
LAST-MODIFIED:20240319T142442Z
UID:10000205-1712948400-1712952000@www.vso.org
SUMMARY:Jukebox: The Sound of Science in Rutland
DESCRIPTION:Buy Tickets \nIn the Sound of Science\, Jukebox explores the intersection of music\, science and data. The evening features compositions inspired and informed by scientific principles. We marvel at the structure behind Bach’s counterpoint\, see how one composer translates the concept of the red-shift (the evidence behind the ever-expanding universe) into music\, and delve just a little bit into science fiction. In addition\, we see how data can be directly interpreted into music and sound. Temperature data is translated into musical notes in Daniel Crawfords brilliant Planetary Bands\, the sound of a glacier melting is the bedrock of Sophie Kastner’s new work\, data received from a buoy in Lake Champlain provides the director of a new piece by Vermont Composer Peter Hamlin\, and more! \nEach concert will include a free workshop where participants can create music and sound out of their own data through a free online tool developed by Kinetek. \nBrooke Quiggins Saulnier and Jane Kittredge\, violin\nStefanie Taylor\, viola\nJohn Dunlop\, cello\nMatt LaRocca\, host and curator \nMusic from:\nMark Mellits\nLarry Groupé\nJ.S. Bach\nAlexander Borodin\nSophie Kastner\nPeter Hamlin\nDaniel Crawford\nMatt LaRocca\nRadiohead \nThis concert is generously supported by the Young Cultural Fund of Rutland\, and is produced in partnership with the Paramount Theatre. \n 
URL:http://www.vso.org/vso-event/jukebox-the-sound-of-science-in-rutland/
LOCATION:Roots Studio Space\, 55 Washington St\, Rutland\, VT\, 05701\, United States
CATEGORIES:Jukebox
ATTACH;FMTTYPE=image/jpeg:http://www.vso.org/wp-content/uploads/2023/05/VSO_JukeboxSci_1920x1080Alt.jpg
END:VEVENT
BEGIN:VEVENT
DTSTART;TZID=America/New_York:20231021T193000
DTEND;TZID=America/New_York:20231021T210000
DTSTAMP:20260425T204814
CREATED:20230506T232409Z
LAST-MODIFIED:20231005T194408Z
UID:10000121-1697916600-1697922000@www.vso.org
SUMMARY:Jukebox: Color Theory - Roots Studio Space
DESCRIPTION:BUY TICKETS\n \n\n\n\nThe Jukebox fall series showcases the intersection between music and art with works inspired by vivid colors\, imagery\, and artwork. Over the duration of the concert\, the music will guide and inform a live painting experience with Haitian/Vermont artist Julio Desmont as he creates a new piece of artwork in real time. Curated and hosted by Matt LaRocca\, this concert features music by composers Jessie Montgomery\, Philip Glass\, Benjamin Britten\, Javier Alvarez\, and more. \n\nDesmont’s artistic journey begin in Haiti in his early childhood observing trogon birds and riding on Taptaps.  Later on\, he was inspired by Jean Michel Basquiat\, Wassily Kandinsky\, and Pablo Picasso whose inspirations went back to Africa – as well as the original American painter\, Georgia O’Keeffe.\n\n  \nThe Jukebox Quartet\n\n\nBrooke Quiggins-Saulnier and Ben Lively\, violin\nStefanie Taylor\, viola\nJohn Dunlop\, cello \n\nThis concert is produced in partnership with The Paramount Theatre and is generously sponsored in part by:    \nAnd made possible with the generous support of the Young Cultural Endowment Fund for Rutland\, and by Sandy and Kristi Bragg\, in memory of Ann Bragg.
URL:http://www.vso.org/vso-event/jukebox-color-theory-roots-studio-space/
LOCATION:Roots Studio Space\, 55 Washington St\, Rutland\, VT\, 05701\, United States
CATEGORIES:Jukebox
ATTACH;FMTTYPE=image/jpeg:http://www.vso.org/wp-content/uploads/2023/05/VSO-Tile-Jukebox-ColorTheory.jpg
END:VEVENT
END:VCALENDAR