BEGIN:VCALENDAR
VERSION:2.0
PRODID:-//Vermont Symphony Orchestra - ECPv6.15.17.1//NONSGML v1.0//EN
CALSCALE:GREGORIAN
METHOD:PUBLISH
X-ORIGINAL-URL:http://www.vso.org
X-WR-CALDESC:Events for Vermont Symphony Orchestra
REFRESH-INTERVAL;VALUE=DURATION:PT1H
X-Robots-Tag:noindex
X-PUBLISHED-TTL:PT1H
BEGIN:VTIMEZONE
TZID:America/New_York
BEGIN:DAYLIGHT
TZOFFSETFROM:-0500
TZOFFSETTO:-0400
TZNAME:EDT
DTSTART:20250309T070000
END:DAYLIGHT
BEGIN:STANDARD
TZOFFSETFROM:-0400
TZOFFSETTO:-0500
TZNAME:EST
DTSTART:20251102T060000
END:STANDARD
BEGIN:DAYLIGHT
TZOFFSETFROM:-0500
TZOFFSETTO:-0400
TZNAME:EDT
DTSTART:20260308T070000
END:DAYLIGHT
BEGIN:STANDARD
TZOFFSETFROM:-0400
TZOFFSETTO:-0500
TZNAME:EST
DTSTART:20261101T060000
END:STANDARD
BEGIN:DAYLIGHT
TZOFFSETFROM:-0500
TZOFFSETTO:-0400
TZNAME:EDT
DTSTART:20270314T070000
END:DAYLIGHT
BEGIN:STANDARD
TZOFFSETFROM:-0400
TZOFFSETTO:-0500
TZNAME:EST
DTSTART:20271107T060000
END:STANDARD
END:VTIMEZONE
BEGIN:VEVENT
DTSTART;TZID=America/New_York:20260124T120000
DTEND;TZID=America/New_York:20260124T130000
DTSTAMP:20260425T222554
CREATED:20251219T144320Z
LAST-MODIFIED:20260121T203754Z
UID:10000328-1769256000-1769259600@www.vso.org
SUMMARY:Winter Concert: Vermont Symphony Orchestra Duo
DESCRIPTION:Enjoy an afternoon of string duet music by Telemann\, Bach\, Boccherini\, Bartok\, and Piazzola featuring featuring John Dunlop\, VSO Principal cello\, and Laura Markowitz\, VSO violin. This free concert takes place at the South Burlington Public Library’s auditorium; no tickets or registration needed. \nDoors open at 11:45 AM; Concert at 12:00 PM. \nThanks to the South Burlington Friends of the Library for sponsorship of their annual concert series. For more information\, click here. \n 
URL:http://www.vso.org/vso-event/10680/
LOCATION:South Burlington Public Library Auditorium\, 180 Market St.\, South Burlington\, VT\, United States
CATEGORIES:Free Concert
END:VEVENT
END:VCALENDAR