BEGIN:VCALENDAR
VERSION:2.0
PRODID:-//Vermont Symphony Orchestra - ECPv6.15.17.1//NONSGML v1.0//EN
CALSCALE:GREGORIAN
METHOD:PUBLISH
X-WR-CALNAME:Vermont Symphony Orchestra
X-ORIGINAL-URL:http://www.vso.org
X-WR-CALDESC:Events for Vermont Symphony Orchestra
REFRESH-INTERVAL;VALUE=DURATION:PT1H
X-Robots-Tag:noindex
X-PUBLISHED-TTL:PT1H
BEGIN:VTIMEZONE
TZID:America/New_York
BEGIN:DAYLIGHT
TZOFFSETFROM:-0500
TZOFFSETTO:-0400
TZNAME:EDT
DTSTART:20240310T070000
END:DAYLIGHT
BEGIN:STANDARD
TZOFFSETFROM:-0400
TZOFFSETTO:-0500
TZNAME:EST
DTSTART:20241103T060000
END:STANDARD
BEGIN:DAYLIGHT
TZOFFSETFROM:-0500
TZOFFSETTO:-0400
TZNAME:EDT
DTSTART:20250309T070000
END:DAYLIGHT
BEGIN:STANDARD
TZOFFSETFROM:-0400
TZOFFSETTO:-0500
TZNAME:EST
DTSTART:20251102T060000
END:STANDARD
BEGIN:DAYLIGHT
TZOFFSETFROM:-0500
TZOFFSETTO:-0400
TZNAME:EDT
DTSTART:20260308T070000
END:DAYLIGHT
BEGIN:STANDARD
TZOFFSETFROM:-0400
TZOFFSETTO:-0500
TZNAME:EST
DTSTART:20261101T060000
END:STANDARD
END:VTIMEZONE
BEGIN:VEVENT
DTSTART;TZID=America/New_York:20250912T163000
DTEND;TZID=America/New_York:20250912T223000
DTSTAMP:20260419T132023
CREATED:20250616T203936Z
LAST-MODIFIED:20250629T232139Z
UID:10000304-1757694600-1757716200@www.vso.org
SUMMARY:Grand Point North with Grace Potter and the VSO
DESCRIPTION:The Vermont Symphony Orchestra takes the stage alongside Grace Potter at Grand Point North.  \nAcclaimed singer\, songwriter\, multi-instrumentalist\, band leader\, GRAMMY nominee and Fayston native Grace Potter is teaming up with the VSO again following their successful collaboration in March. Together\, they explore this Vermont rock legend’s music with Grace as the concert soloist. You’ll hear “Masterpiece” and “Lady Vagabond” from her newest album Mother Road\, her biggest hits “The Lion The Beast The Beat\,” “Paris (Ooh La La)\,” “Stars” and more.  \nDay one of this three day festival at the waterfront in Burlington also features Maryse Smith\, The Wet Ones!\, Burly Girlies\, and Grace Palmer. The VSO will take to the stage around 8:30 p.m. on Friday\, September 12. \nPurchase tickets for Friday\, September 12 featuring the VSO at the link below. \nBuy Tickets \nFor a VIP package that includes tickets to Friday\, September 12 and Saturday\, September 13\, click below. \nBuy VIP Package \n 
URL:http://www.vso.org/vso-event/grand-point-north-with-grace-potter-and-the-vso/
LOCATION:Waterfront Park\, 20 Lake St\, Burlington\, VT\, 05401\, United States
CATEGORIES:Burlington
ATTACH;FMTTYPE=image/png:http://www.vso.org/wp-content/uploads/2025/06/gpn2.png
END:VEVENT
END:VCALENDAR