BEGIN:VCALENDAR
VERSION:2.0
PRODID:-//Vermont Symphony Orchestra - ECPv6.15.17.1//NONSGML v1.0//EN
CALSCALE:GREGORIAN
METHOD:PUBLISH
X-WR-CALNAME:Vermont Symphony Orchestra
X-ORIGINAL-URL:http://www.vso.org
X-WR-CALDESC:Events for Vermont Symphony Orchestra
REFRESH-INTERVAL;VALUE=DURATION:PT1H
X-Robots-Tag:noindex
X-PUBLISHED-TTL:PT1H
BEGIN:VTIMEZONE
TZID:America/New_York
BEGIN:DAYLIGHT
TZOFFSETFROM:-0500
TZOFFSETTO:-0400
TZNAME:EDT
DTSTART:20220313T070000
END:DAYLIGHT
BEGIN:STANDARD
TZOFFSETFROM:-0400
TZOFFSETTO:-0500
TZNAME:EST
DTSTART:20221106T060000
END:STANDARD
BEGIN:DAYLIGHT
TZOFFSETFROM:-0500
TZOFFSETTO:-0400
TZNAME:EDT
DTSTART:20230312T070000
END:DAYLIGHT
BEGIN:STANDARD
TZOFFSETFROM:-0400
TZOFFSETTO:-0500
TZNAME:EST
DTSTART:20231105T060000
END:STANDARD
BEGIN:DAYLIGHT
TZOFFSETFROM:-0500
TZOFFSETTO:-0400
TZNAME:EDT
DTSTART:20240310T070000
END:DAYLIGHT
BEGIN:STANDARD
TZOFFSETFROM:-0400
TZOFFSETTO:-0500
TZNAME:EST
DTSTART:20241103T060000
END:STANDARD
END:VTIMEZONE
BEGIN:VEVENT
DTSTART;TZID=America/New_York:20230908T180000
DTEND;TZID=America/New_York:20230908T190000
DTSTAMP:20260420T193533
CREATED:20230807T214811Z
LAST-MODIFIED:20230902T145416Z
UID:10000196-1694196000-1694199600@www.vso.org
SUMMARY:LGBTQ+ Composer Concert
DESCRIPTION:Register Here \nThe VSO string quartet comes to South Burlington with a free\, one-hour concert celebrating the music of LGBTQ+ composers\, their stories\, and their contributions to the world of music. The quartet features violinists Laura Markowitz and Jane Kittredge\, violist Stefanie Taylor\, and cellist John Dunlop with music by Caroline Shaw\, Jennifer Higdon\, Peter Tchaikovsky\, Leonard Bernstein and Vermonters Mary Rowell and Aiyana Baldasty. \nTickets are free but attendees must register in order to hold their spot. \n  \nThis concert is generously sponsored by:
URL:http://www.vso.org/vso-event/lgbtq-composer-concert/
LOCATION:South Burlington Public Library Auditorium\, 180 Market St.\, South Burlington\, VT\, United States
CATEGORIES:Free Concert
ATTACH;FMTTYPE=image/png:http://www.vso.org/wp-content/uploads/2023/04/Montpelier-Pride-2.png
END:VEVENT
BEGIN:VEVENT
DTSTART;TZID=America/New_York:20230930T193000
DTEND;TZID=America/New_York:20230930T213000
DTSTAMP:20260420T193533
CREATED:20230506T232448Z
LAST-MODIFIED:20230919T135341Z
UID:10000123-1696102200-1696109400@www.vso.org
SUMMARY:VSO at the Flynn: A New Beginning
DESCRIPTION:Buy Tickets Here \nPurchase a VSO at the Flynn Subscription \n  \nVSO’s 2023-2024 season opener begins with its first-ever performance of Coleridge-Taylor’s ravishing ballade\, with Smetana and Brahms completing the Romantic concert theme. Cellist Joshua Roman and violinist Simone Porter make their Vermont debuts. This concert is conducted by VSO Music Director Andrew Crust.\n\nThe concert begins at 7:30 p.m. and is preceded at 6:30 p.m. by Musically Speaking\, a free pre-concert discussion that provides entertaining insight into the evening’s program. \n“[Porter’s] assured\, lovingly lyrical\, occasionally frisky playing only confirmed what is becoming common knowledge in the musical world: that she is on the cusp of a major career.”\nMark Swed\, LA Times \n“Roman’s flawless cello lines were seemingly effortless expressions of a soul captivated by some great beauty.”\nThe Columbus Dispatch \nOpus 3 Artists are the exclusive representatives of Simone Porter and Joshua Roman. \n  \n\nPROGRAM \nSAMUEL COLERIDGE-TAYLOR   Ballade in a minor \nBEDRICH SMETANA   “Ma Vlast” selections: \n      II. Vltava (The Moldau)   \n      IV. Z českých luhů a hájů (From Bohemia’s Fields and Meadows) \nIntermission \nJOHANNES BRAHMS   Double Concerto for Violin and Cello \n  \nThis concert is kindly sponsored by Barbara Wessel\, with additional support by Pat Sampson. Generous support for our soloists is also provided by the Concert Artists Fund at the Vermont Community Foundation. \n \n  \n  For accessibility information at this venue\, please contact the Flynn at 802-863-5966 or visit the Flynn’s accessibility website by clicking here.
URL:http://www.vso.org/vso-event/vso-at-the-flynn-a-new-beginning/
LOCATION:Flynn Center\, 153 Main Street\, Burlington\, VT\, 05401\, United States
CATEGORIES:Classical Series,Burlington
ATTACH;FMTTYPE=image/jpeg:http://www.vso.org/wp-content/uploads/2023/05/VSO-Tile-Flynn-NewBeginning.jpg
END:VEVENT
END:VCALENDAR