BEGIN:VCALENDAR
VERSION:2.0
PRODID:-//Vermont Symphony Orchestra - ECPv6.15.17.1//NONSGML v1.0//EN
CALSCALE:GREGORIAN
METHOD:PUBLISH
X-WR-CALNAME:Vermont Symphony Orchestra
X-ORIGINAL-URL:http://www.vso.org
X-WR-CALDESC:Events for Vermont Symphony Orchestra
REFRESH-INTERVAL;VALUE=DURATION:PT1H
X-Robots-Tag:noindex
X-PUBLISHED-TTL:PT1H
BEGIN:VTIMEZONE
TZID:America/New_York
BEGIN:DAYLIGHT
TZOFFSETFROM:-0500
TZOFFSETTO:-0400
TZNAME:EDT
DTSTART:20220313T070000
END:DAYLIGHT
BEGIN:STANDARD
TZOFFSETFROM:-0400
TZOFFSETTO:-0500
TZNAME:EST
DTSTART:20221106T060000
END:STANDARD
BEGIN:DAYLIGHT
TZOFFSETFROM:-0500
TZOFFSETTO:-0400
TZNAME:EDT
DTSTART:20230312T070000
END:DAYLIGHT
BEGIN:STANDARD
TZOFFSETFROM:-0400
TZOFFSETTO:-0500
TZNAME:EST
DTSTART:20231105T060000
END:STANDARD
BEGIN:DAYLIGHT
TZOFFSETFROM:-0500
TZOFFSETTO:-0400
TZNAME:EDT
DTSTART:20240310T070000
END:DAYLIGHT
BEGIN:STANDARD
TZOFFSETFROM:-0400
TZOFFSETTO:-0500
TZNAME:EST
DTSTART:20241103T060000
END:STANDARD
END:VTIMEZONE
BEGIN:VEVENT
DTSTART;TZID=America/New_York:20230121T160000
DTEND;TZID=America/New_York:20230121T170000
DTSTAMP:20260421T074113
CREATED:20221006T151542Z
LAST-MODIFIED:20230120T170424Z
UID:10000153-1674316800-1674320400@www.vso.org
SUMMARY:Juicebox at Higher Ground
DESCRIPTION:Tickets for this event are SOLD OUT \nWait – did you say Juicebox or Jukebox??? \nWe definitely said Juicebox! Bring the kids along to this brand new show designed for both children and parents. Our Jukebox String Quartet transforms into the Juicebox String Quartet\, and this time it’s all about how feelings and music go together. Geared towards ages 10 and under\, this show features interactive spots for the audience\, music set to The Feelings Book by NY Times best-selling author Todd Parr\, some musical jokes\, and (most importantly) dedicated wiggle and dance time for the little ones. And since this is a Juicebox show after all\, each child will receive a complimentary juicebox as they enter! \nBrooke Quiggins Saulnier and Aleksandra Labinska\, violin\nStefanie Taylor\, viola\nJohn Dunlop\, cello\nMatt LaRocca\, curator and host \nTickets are $5 for kids\, $10 for adults and can be purchased via Higher Ground in January 2023. \nDoors open at 3:30\, show begins at 4:00 pm. \n 
URL:http://www.vso.org/vso-event/juicebox-at-higherground/
LOCATION:Higher Ground\, 1214 Williston Rd\, South Burlington\, VT\, 05403\, United States
CATEGORIES:Jukebox
ATTACH;FMTTYPE=image/png:http://www.vso.org/wp-content/uploads/2022/10/juicebox-web-header.png
END:VEVENT
BEGIN:VEVENT
DTSTART;TZID=America/New_York:20230121T190000
DTEND;TZID=America/New_York:20230121T200000
DTSTAMP:20260421T074113
CREATED:20221006T152843Z
LAST-MODIFIED:20230105T135632Z
UID:10000154-1674327600-1674331200@www.vso.org
SUMMARY:Jukebox at Higher Ground (18+)
DESCRIPTION:Buy Tickets Here \nJukebox presents an adults-only program that features music and composers that are scandalous\, depraved\, and decidedly adult – no kids allowed at this one! It’s a fun\, entertaining\, and slightly bawdy adults only show that’s got it all. We’re including Baroque masters such as Bach and Gesualdo\, a piece showcasing the other side of Mozart\, some folksy Percy Grainger that we hear in a new light…and a good helping of sex\, drugs and murder. You know\, it’s just like your typical chamber music concert. \nBrooke Quiggins Saulnier and Aleksandra Labinska \, violin\nStefanie Taylor\, viola\nJohn Dunlop\, cello\nMatt LaRocca\, curator and host \nExpect coarse language and adult themes 18+   \nTickets are $15 in advance and will be $20 day of\, and will be on sale via Higher Ground. Doors open at 6pm\, show starts at 7pm. \n  \nSponsored by Northfield Savings Bank Innovation Fund\, and the Ruth and Peter Metz Family Foundation.
URL:http://www.vso.org/vso-event/jukebox-at-higherground-18/
LOCATION:Higher Ground\, 1214 Williston Rd\, South Burlington\, VT\, 05403\, United States
CATEGORIES:Jukebox
ATTACH;FMTTYPE=image/png:http://www.vso.org/wp-content/uploads/2022/03/JUKEBOX.png
END:VEVENT
END:VCALENDAR