BEGIN:VCALENDAR
VERSION:2.0
PRODID:-//Vermont Symphony Orchestra - ECPv6.15.17.1//NONSGML v1.0//EN
CALSCALE:GREGORIAN
METHOD:PUBLISH
X-WR-CALNAME:Vermont Symphony Orchestra
X-ORIGINAL-URL:http://www.vso.org
X-WR-CALDESC:Events for Vermont Symphony Orchestra
REFRESH-INTERVAL;VALUE=DURATION:PT1H
X-Robots-Tag:noindex
X-PUBLISHED-TTL:PT1H
BEGIN:VTIMEZONE
TZID:America/New_York
BEGIN:DAYLIGHT
TZOFFSETFROM:-0500
TZOFFSETTO:-0400
TZNAME:EDT
DTSTART:20220313T070000
END:DAYLIGHT
BEGIN:STANDARD
TZOFFSETFROM:-0400
TZOFFSETTO:-0500
TZNAME:EST
DTSTART:20221106T060000
END:STANDARD
BEGIN:DAYLIGHT
TZOFFSETFROM:-0500
TZOFFSETTO:-0400
TZNAME:EDT
DTSTART:20230312T070000
END:DAYLIGHT
BEGIN:STANDARD
TZOFFSETFROM:-0400
TZOFFSETTO:-0500
TZNAME:EST
DTSTART:20231105T060000
END:STANDARD
BEGIN:DAYLIGHT
TZOFFSETFROM:-0500
TZOFFSETTO:-0400
TZNAME:EDT
DTSTART:20240310T070000
END:DAYLIGHT
BEGIN:STANDARD
TZOFFSETFROM:-0400
TZOFFSETTO:-0500
TZNAME:EST
DTSTART:20241103T060000
END:STANDARD
END:VTIMEZONE
BEGIN:VEVENT
DTSTART;TZID=America/New_York:20230205T150000
DTEND;TZID=America/New_York:20230205T170000
DTSTAMP:20260419T112529
CREATED:20221006T155405Z
LAST-MODIFIED:20230117T142144Z
UID:10000157-1675609200-1675616400@www.vso.org
SUMMARY:Vermont Youth Orchestra Side-by-Side Concert
DESCRIPTION:Buy Tickets \n\n \n21 VSO musicians will join the Vermont Youth Orchestra’s (VYO) winter concert “La fiesta Mexicana” for music accompanied by video projections created by Champlain College Emergent Media Center students. Conducted by VYO Music Director Mark Alpizar\, the VSO will accompany two pieces: José Pablo Moncayo’s Huapango\, which takes its name from a Mexican dance rhythm related to the fandango\, and Arturo Márquez’s Danzón based on a Veracruz-born dance style. \n¡La fiesta! \nPiano Concerto No. 5 “Egyptian\,” op. 103 ….. Camille Saint-Saëns \nI.\nAllegro animato \nMiles Glover\, piano\n2022-2023 Senior Soloist \nPiano Concerto No. 2 in D Minor\, op. 40 ….. Felix Mendelssohn \nII.\nAdagio \nLaura Zhou-Hackett\, piano\n2022-2023 Senior Soloist \nCold Mountain Suite ..… Jennifer Higdon \nConsortium Premiere \nVYO and VSO Side-By-Side Performance \nHuapango ….. José Pablo Moncayo \nDanzón No. 2 ….. Arturo Márquez \n  \n \nThe VSO thanks the Vermont Arts Council\, VELCO\, PCC\, Pat Robins and Lisa Schamberg\, and the George M. Mergens Foundation for their support of this concert. \n  \n For accessibility information at this venue\, please contact Grace Spain at 802-864-5741 or at hello@vso.org.
URL:http://www.vso.org/vso-event/vermont-youth-orchestra-side-by-side-concert/
LOCATION:Flynn Center\, 153 Main Street\, Burlington\, VT\, 05401\, United States
CATEGORIES:Burlington,VYO Side-by-Side
ATTACH;FMTTYPE=image/png:http://www.vso.org/wp-content/uploads/2022/03/044A335E-24F8-4C31-B9EF-50FBD9921120.png
END:VEVENT
END:VCALENDAR