BEGIN:VCALENDAR
VERSION:2.0
PRODID:-//Vermont Symphony Orchestra - ECPv6.15.17.1//NONSGML v1.0//EN
CALSCALE:GREGORIAN
METHOD:PUBLISH
X-WR-CALNAME:Vermont Symphony Orchestra
X-ORIGINAL-URL:http://www.vso.org
X-WR-CALDESC:Events for Vermont Symphony Orchestra
REFRESH-INTERVAL;VALUE=DURATION:PT1H
X-Robots-Tag:noindex
X-PUBLISHED-TTL:PT1H
BEGIN:VTIMEZONE
TZID:America/New_York
BEGIN:DAYLIGHT
TZOFFSETFROM:-0500
TZOFFSETTO:-0400
TZNAME:EDT
DTSTART:20210314T070000
END:DAYLIGHT
BEGIN:STANDARD
TZOFFSETFROM:-0400
TZOFFSETTO:-0500
TZNAME:EST
DTSTART:20211107T060000
END:STANDARD
BEGIN:DAYLIGHT
TZOFFSETFROM:-0500
TZOFFSETTO:-0400
TZNAME:EDT
DTSTART:20220313T070000
END:DAYLIGHT
BEGIN:STANDARD
TZOFFSETFROM:-0400
TZOFFSETTO:-0500
TZNAME:EST
DTSTART:20221106T060000
END:STANDARD
BEGIN:DAYLIGHT
TZOFFSETFROM:-0500
TZOFFSETTO:-0400
TZNAME:EDT
DTSTART:20230312T070000
END:DAYLIGHT
BEGIN:STANDARD
TZOFFSETFROM:-0400
TZOFFSETTO:-0500
TZNAME:EST
DTSTART:20231105T060000
END:STANDARD
END:VTIMEZONE
BEGIN:VEVENT
DTSTART;TZID=America/New_York:20220917T193000
DTEND;TZID=America/New_York:20220917T213000
DTSTAMP:20260419T190828
CREATED:20220823T160205Z
LAST-MODIFIED:20220823T160505Z
UID:10000140-1663443000-1663450200@www.vso.org
SUMMARY:VSO at the Flynn: Riots and Prayers
DESCRIPTION:Buy Tickets Here.  \nVSO Music Director candidate Sarah Ioannides launches the season with an excitingly diverse program\, beginning with sounds of the Caribbean in Gershwin’s ridiculously fun Cuban Overture. The world premiere of Riots and Prayers by composer Daniel Bernard Roumain\, a commission spearheaded by the VSO\, The Flynn and the UVM Lane Series in 2020\, completes the concert’s first half. The composer promises an opportunity for “words\, witness\, and wonder” with a work inspired by our “divisive\, combative\, and collaborative” times. The concert closes with Sergei Prokofiev’s dramatic fifth symphony\, composed while World War II was raging as “a hymn to free and happy mankind.” \nThe concert begins at 7:30 p.m. and is preceded at 6:30 p.m. by Musically Speaking\, a free pre-concert discussion that provides entertaining insight into the evening’s program. \nHave your say! We’re looking for five people to speak\, sing\, shout\, sign\, dance or express themselves in any way as part of our performance of Riots and Prayers. Click here to learn more and sign up. \n\nPROGRAM:  \nGershwin –  Cuban Overture  \nDaniel Bernard Roumain –  Riots and Prayers \nProkofiev –  Symphony No. 5 \n For accessibility information at this venue\, please contact The Flynn at 802-863-5966. \n  \n \n\n \nThis concert is generously sponsored by a grant from the National Endowment for the Arts. \nThe VSO also thanks Vermont Humanities and the Vermont Arts Council for their kind support of this project. \n  \n \nThis concert is also generously supported by Courtyard Marriott. 
URL:http://www.vso.org/vso-event/vso-at-the-flynn-riots-and-prayers/
LOCATION:Flynn Center\, 153 Main Street\, Burlington\, VT\, 05401\, United States
ATTACH;FMTTYPE=image/png:http://www.vso.org/wp-content/uploads/2022/03/CLASSICAL-SERIES-SEPT-4.png
END:VEVENT
END:VCALENDAR