BEGIN:VCALENDAR
VERSION:2.0
PRODID:-//Vermont Symphony Orchestra - ECPv6.15.17.1//NONSGML v1.0//EN
CALSCALE:GREGORIAN
METHOD:PUBLISH
X-WR-CALNAME:Vermont Symphony Orchestra
X-ORIGINAL-URL:http://www.vso.org
X-WR-CALDESC:Events for Vermont Symphony Orchestra
REFRESH-INTERVAL;VALUE=DURATION:PT1H
X-Robots-Tag:noindex
X-PUBLISHED-TTL:PT1H
BEGIN:VTIMEZONE
TZID:America/New_York
BEGIN:DAYLIGHT
TZOFFSETFROM:-0500
TZOFFSETTO:-0400
TZNAME:EDT
DTSTART:20240310T070000
END:DAYLIGHT
BEGIN:STANDARD
TZOFFSETFROM:-0400
TZOFFSETTO:-0500
TZNAME:EST
DTSTART:20241103T060000
END:STANDARD
BEGIN:DAYLIGHT
TZOFFSETFROM:-0500
TZOFFSETTO:-0400
TZNAME:EDT
DTSTART:20250309T070000
END:DAYLIGHT
BEGIN:STANDARD
TZOFFSETFROM:-0400
TZOFFSETTO:-0500
TZNAME:EST
DTSTART:20251102T060000
END:STANDARD
BEGIN:DAYLIGHT
TZOFFSETFROM:-0500
TZOFFSETTO:-0400
TZNAME:EDT
DTSTART:20260308T070000
END:DAYLIGHT
BEGIN:STANDARD
TZOFFSETFROM:-0400
TZOFFSETTO:-0500
TZNAME:EST
DTSTART:20261101T060000
END:STANDARD
END:VTIMEZONE
BEGIN:VEVENT
DTSTART;TZID=America/New_York:20250321T193000
DTEND;TZID=America/New_York:20250321T213000
DTSTAMP:20260419T194615
CREATED:20240924T110327Z
LAST-MODIFIED:20250320T135628Z
UID:10000249-1742585400-1742592600@www.vso.org
SUMMARY:Grace Potter with the Vermont Symphony Orchestra at the Paramount Theatre - SOLD OUT
DESCRIPTION:Buy Tickets \n  \nTHIS CONCERT IS SOLD OUT \nThe Paramount Theatre and Vermont Symphony Orchestra proudly present: \nAcclaimed singer\, songwriter\, multi-instrumentalist\, band leader\, GRAMMY nominee and Fayston native Grace Potter joins the VSO for the very first time. Teaming up to create a whole new experience\, VSO explores this Vermont rock legend’s music with Grace as the concert soloist. You’ll hear “Masterpiece” and “Lady Vagabond” from her newest album Mother Road\, her biggest hits “The Lion The Beast The Beat\,” “Paris (Ooh La La)\,” “Stars” and more … along with the premiere of a brand-new song. Conducted by Matt LaRocca. \nThis concert is generously sponsored by VELCO and The Paramount Theatre. \n  \n         \nOur Student Insiders educational program for this concert is kindly organized by the VSO SouthWest Friends volunteers\, with sponsorship by Stewart’s Shops\, the Charles R. Wood Foundation\, and generous individual donors.
URL:http://www.vso.org/vso-event/grace-potter-with-the-vermont-symphony-orchestra-2/
LOCATION:Paramount Theatre\, 30 Center St\, Rutland\, VT\, 05701\, United States
CATEGORIES:Classical Series,Pops
ATTACH;FMTTYPE=image/jpeg:http://www.vso.org/wp-content/uploads/2024/09/Grace-Potter-photo-3-scaled.jpeg
END:VEVENT
END:VCALENDAR