BEGIN:VCALENDAR
VERSION:2.0
PRODID:-//Vermont Symphony Orchestra - ECPv6.15.17.1//NONSGML v1.0//EN
CALSCALE:GREGORIAN
METHOD:PUBLISH
X-WR-CALNAME:Vermont Symphony Orchestra
X-ORIGINAL-URL:http://www.vso.org
X-WR-CALDESC:Events for Vermont Symphony Orchestra
REFRESH-INTERVAL;VALUE=DURATION:PT1H
X-Robots-Tag:noindex
X-PUBLISHED-TTL:PT1H
BEGIN:VTIMEZONE
TZID:America/New_York
BEGIN:DAYLIGHT
TZOFFSETFROM:-0500
TZOFFSETTO:-0400
TZNAME:EDT
DTSTART:20250309T070000
END:DAYLIGHT
BEGIN:STANDARD
TZOFFSETFROM:-0400
TZOFFSETTO:-0500
TZNAME:EST
DTSTART:20251102T060000
END:STANDARD
BEGIN:DAYLIGHT
TZOFFSETFROM:-0500
TZOFFSETTO:-0400
TZNAME:EDT
DTSTART:20260308T070000
END:DAYLIGHT
BEGIN:STANDARD
TZOFFSETFROM:-0400
TZOFFSETTO:-0500
TZNAME:EST
DTSTART:20261101T060000
END:STANDARD
BEGIN:DAYLIGHT
TZOFFSETFROM:-0500
TZOFFSETTO:-0400
TZNAME:EDT
DTSTART:20270314T070000
END:DAYLIGHT
BEGIN:STANDARD
TZOFFSETFROM:-0400
TZOFFSETTO:-0500
TZNAME:EST
DTSTART:20271107T060000
END:STANDARD
END:VTIMEZONE
BEGIN:VEVENT
DTSTART;TZID=America/New_York:20260918T193000
DTEND;TZID=America/New_York:20260918T213000
DTSTAMP:20260420T200505
CREATED:20260420T142851Z
LAST-MODIFIED:20260420T142851Z
UID:10000357-1789759800-1789767000@www.vso.org
SUMMARY:VSO at the Flynn: Charity\, Sylvia & Cleopatra
DESCRIPTION:Buy Tickets \nThe 2026–27 season opens with a Friday night concert highlighting music inspired and created by powerful women—from Björk to Cleopatra\, spanning 19th-century Vermont to the Persian Empire. The concert premieres a VSO commission by composer Clarice Assad\, based on the historic Weybridge\, VT couple Charity Bryant and Sylvia Drake\, alongside selections from Giuseppi Verdi’s Aida and Hector Berlioz’ La mort de Cléopâtre. The dramatic and sweeping Scheherazade by Nikolai Rimsky-Korsakov brings this memorable program to a vivid close. Mezzo-soprano Nikola Printz\, soloist with VSO’s 2025 Summer Festival Tour\, returns and is joined by soprano Danielle Buonaiuto. \nThe concert begins at 7:30 p.m. and is preceded at 6:30 p.m. by Musically Speaking\, a free pre-concert discussion that provides entertaining insight into the evening’s program.  \nAndrew Crust\, conductor \nDanielle Buonaiuto\, soprano \nNikola Printz\, mezzo-soprano \n  \n \n       Danielle Buonaiuto\, Clarice Assad\, Nikola Printz \n  \nProgram \nBjörk/Dorn  – Overture from “Dancer in the Dark”  \nClarice Assad – Charity & Sylvia \nGiuseppe Verdi  – Aida\n    I. Preludio \nHector Berlioz  – La mort de Cléopâtre (Death of Cleopatra)\nIV. Méditation \nNikolai Rimsky-Korsakov  – Scheherazade \n  \n 
URL:http://www.vso.org/vso-event/vso-at-the-flynn-charity-sylvia-cleopatra/
LOCATION:Flynn Center\, 153 Main Street\, Burlington\, VT\, 05401\, United States
CATEGORIES:Classical Series,Burlington
ATTACH;FMTTYPE=image/jpeg:http://www.vso.org/wp-content/uploads/2025/05/P1140467-scaled.jpg
END:VEVENT
END:VCALENDAR