BEGIN:VCALENDAR
VERSION:2.0
PRODID:-//Vermont Symphony Orchestra - ECPv6.15.17.1//NONSGML v1.0//EN
CALSCALE:GREGORIAN
METHOD:PUBLISH
X-ORIGINAL-URL:http://www.vso.org
X-WR-CALDESC:Events for Vermont Symphony Orchestra
REFRESH-INTERVAL;VALUE=DURATION:PT1H
X-Robots-Tag:noindex
X-PUBLISHED-TTL:PT1H
BEGIN:VTIMEZONE
TZID:America/New_York
BEGIN:DAYLIGHT
TZOFFSETFROM:-0500
TZOFFSETTO:-0400
TZNAME:EDT
DTSTART:20230312T070000
END:DAYLIGHT
BEGIN:STANDARD
TZOFFSETFROM:-0400
TZOFFSETTO:-0500
TZNAME:EST
DTSTART:20231105T060000
END:STANDARD
BEGIN:DAYLIGHT
TZOFFSETFROM:-0500
TZOFFSETTO:-0400
TZNAME:EDT
DTSTART:20240310T070000
END:DAYLIGHT
BEGIN:STANDARD
TZOFFSETFROM:-0400
TZOFFSETTO:-0500
TZNAME:EST
DTSTART:20241103T060000
END:STANDARD
BEGIN:DAYLIGHT
TZOFFSETFROM:-0500
TZOFFSETTO:-0400
TZNAME:EDT
DTSTART:20250309T070000
END:DAYLIGHT
BEGIN:STANDARD
TZOFFSETFROM:-0400
TZOFFSETTO:-0500
TZNAME:EST
DTSTART:20251102T060000
END:STANDARD
END:VTIMEZONE
BEGIN:VEVENT
DTSTART;TZID=America/New_York:20240302T193000
DTEND;TZID=America/New_York:20240302T213000
DTSTAMP:20260420T120143
CREATED:20230506T231943Z
LAST-MODIFIED:20240223T193336Z
UID:10000118-1709407800-1709415000@www.vso.org
SUMMARY:VSO at the Flynn: The Hollywood Sound
DESCRIPTION:Buy Tickets Here \nPurchase a VSO at the Flynn Subscription  \n\nFrom romantic\, savage\, and epic American dramas to Japanese anime fantasy\, The Hollywood Sound concert explores film scores from the past 80 years. VSO Concertmaster\, Katherine Winterstein\, performs Korngold’s 1945 film score-infused violin concerto to complete the evening\, and Champlain College’s Emergent Media Center takes Psycho to a new visual level with projection-mapped images on the Flynn Stage. This concert is conducted by VSO Music Director Andrew Crust. \nThe concert begins at 7:30 p.m. and is preceded at 6:30 pm. by Musically Speaking\, a free pre-concert discussion hosted by Vermont Public’s James Stewart\, that provides entertaining insight in to the evening’s program with our conductor and guest soloist. \n\n\nSpecial Feature: it’s Hollywood glamour night with the VSO! For one night only\, Adventure Dinner is taking over the underbelly of the Flynn and creating a magical\, pre-concert dining experience themed to the featured films of the evening. For more information\, click here. \n\n\n\n\n\nPROGRAM \nMAX STEINER   Casablanca Suite\nBERNARD HERRMANN  Psycho Suite for Strings\nNINO ROTA   Godfather Suite\nJOE HISAISHI   Symphonic Variation “Merry-Go-Round” from Howl’s Moving Castle\n\nIntermission \nERICH KORNGOLD   Violin Concerto in d major\, op. 35 \n\n\nThis concert is proudly sponsored by: \n             \n               \n \n\nGenerous support for our soloist is also provided by Mr. William P. Herbst\, the Concert Artists Fund at the Vermont Community Foundation and an anonymous donor. \n \n\n  \n\n\n For accessibility information at this venue\, please contact the Flynn at 802-863-5966 or visit the Flynn’s accessibility website by clicking here.
URL:http://www.vso.org/vso-event/vso-at-the-flynn-the-hollywood-sound/
LOCATION:Flynn Center\, 153 Main Street\, Burlington\, VT\, 05401\, United States
CATEGORIES:Classical Series,Burlington
ATTACH;FMTTYPE=image/jpeg:http://www.vso.org/wp-content/uploads/2023/05/VSO-Tile-Paramount.jpg
END:VEVENT
BEGIN:VEVENT
DTSTART;TZID=America/New_York:20240303T150000
DTEND;TZID=America/New_York:20240303T170000
DTSTAMP:20260420T120143
CREATED:20230506T231917Z
LAST-MODIFIED:20240103T152023Z
UID:10000117-1709478000-1709485200@www.vso.org
SUMMARY:VSO at the Paramount: The Hollywood Sound
DESCRIPTION:BUY TICKETS HERE \n\nFrom romantic\, savage\, and epic American dramas to Japanese anime fantasy\, The Hollywood Sound concert explores film scores from the past 80 years. VSO Concertmaster\, Katherine Winterstein\, performs Korngold’s 1945 film score-infused violin concerto to complete the evening. This concert is conducted by VSO Music Director Andrew Crust\, and includes video projections accompanying Psycho in partnership with Champlain College’s Emergent Media Center. \nThe concert begins at 3:00 p.m. and is preceded at 2:00 pm. by Musically Speaking\, a free pre-concert discussion with Vermont Public’s Helen Lyons\, that provides entertaining insight in to the evening’s program with our conductor and guest soloist. \n\n \n\n\nPROGRAM \nMAX STEINER   Casablanca Suite\nBERNARD HERRMANN  Psycho Suite for Strings\nNINO ROTA   Godfather Suite\nJOE HISAISHI   Symphonic Variation “Merry-Go-Round” from Howl’s Moving Castle\nIntermission\nERICH KORNGOLD   Violin Concerto in d major\, op. 35 \n\nThis concert is generously sponsored by the Young Cultural Endowment for Rutland\, and by: \n                 \n \n  \n  \n  \n\nGenerous support for our soloist is also provided by Mr. William P. Herbst. \n\n\n  For accessibility information at this venue\, please contact The Paramount at 802.775.0570 x201 or email hello@paramountvt.org.
URL:http://www.vso.org/vso-event/vso-at-the-paramount-the-hollywood-sound/
LOCATION:Paramount Theatre\, 30 Center St\, Rutland\, VT\, 05701\, United States
CATEGORIES:Rutland,Classical Series
ATTACH;FMTTYPE=image/jpeg:http://www.vso.org/wp-content/uploads/2023/05/VSO-Tile-Paramount.jpg
END:VEVENT
END:VCALENDAR